BEGIN:VCALENDAR
VERSION:2.0
PRODID:-//Dott.ssa e Naturopata psicosomatico  Federica Zanca - ECPv6.15.20//NONSGML v1.0//EN
CALSCALE:GREGORIAN
METHOD:PUBLISH
X-ORIGINAL-URL:https://www.federicazanca.it
X-WR-CALDESC:Eventi per Dott.ssa e Naturopata psicosomatico  Federica Zanca
REFRESH-INTERVAL;VALUE=DURATION:PT1H
X-Robots-Tag:noindex
X-PUBLISHED-TTL:PT1H
BEGIN:VTIMEZONE
TZID:Europe/Rome
BEGIN:DAYLIGHT
TZOFFSETFROM:+0100
TZOFFSETTO:+0200
TZNAME:CEST
DTSTART:20180325T010000
END:DAYLIGHT
BEGIN:STANDARD
TZOFFSETFROM:+0200
TZOFFSETTO:+0100
TZNAME:CET
DTSTART:20181028T010000
END:STANDARD
BEGIN:DAYLIGHT
TZOFFSETFROM:+0100
TZOFFSETTO:+0200
TZNAME:CEST
DTSTART:20190331T010000
END:DAYLIGHT
BEGIN:STANDARD
TZOFFSETFROM:+0200
TZOFFSETTO:+0100
TZNAME:CET
DTSTART:20191027T010000
END:STANDARD
BEGIN:DAYLIGHT
TZOFFSETFROM:+0100
TZOFFSETTO:+0200
TZNAME:CEST
DTSTART:20200329T010000
END:DAYLIGHT
BEGIN:STANDARD
TZOFFSETFROM:+0200
TZOFFSETTO:+0100
TZNAME:CET
DTSTART:20201025T010000
END:STANDARD
BEGIN:DAYLIGHT
TZOFFSETFROM:+0100
TZOFFSETTO:+0200
TZNAME:CEST
DTSTART:20210328T010000
END:DAYLIGHT
BEGIN:STANDARD
TZOFFSETFROM:+0200
TZOFFSETTO:+0100
TZNAME:CET
DTSTART:20211031T010000
END:STANDARD
END:VTIMEZONE
BEGIN:VEVENT
DTSTART;VALUE=DATE:20200527
DTEND;VALUE=DATE:20200528
DTSTAMP:20260423T170059
CREATED:20200522T043208Z
LAST-MODIFIED:20200522T043208Z
UID:2241-1590537600-1590623999@www.federicazanca.it
SUMMARY:RUBRICA con K.INSERRA...conclusione dell'argomento "LE 5 FERITE EMOZIONALI"
DESCRIPTION:
URL:https://www.federicazanca.it/event/rubrica-con-k-inserra-conclusione-dellargomento-le-5-ferite-emozionali
END:VEVENT
BEGIN:VEVENT
DTSTART;VALUE=DATE:20200522
DTEND;VALUE=DATE:20200523
DTSTAMP:20260423T170059
CREATED:20200402T174549Z
LAST-MODIFIED:20200506T095044Z
UID:2162-1590105600-1590191999@www.federicazanca.it
SUMMARY:PRESENTAZIONE A ISERNIA rimandata ad oggi dal 20.03.2020 POSTICIPATA a GIUGNO
DESCRIPTION:
URL:https://www.federicazanca.it/event/presentazione-a-isernia-rimandata-ad-oggi-dal-20-03-2020
END:VEVENT
BEGIN:VEVENT
DTSTART;VALUE=DATE:20200520
DTEND;VALUE=DATE:20200521
DTSTAMP:20260423T170059
CREATED:20200513T043034Z
LAST-MODIFIED:20200513T043034Z
UID:2223-1589932800-1590019199@www.federicazanca.it
SUMMARY:DIRETTA su INSTAGRAM con K.INSERRA "LE 5 FERITE DELL'ANIMA"
DESCRIPTION:
URL:https://www.federicazanca.it/event/diretta-su-instagram-con-k-inserra-le-5-ferite-dellanima
END:VEVENT
BEGIN:VEVENT
DTSTART;VALUE=DATE:20200515
DTEND;VALUE=DATE:20200516
DTSTAMP:20260423T170059
CREATED:20200506T101020Z
LAST-MODIFIED:20200506T101020Z
UID:2210-1589500800-1589587199@www.federicazanca.it
SUMMARY:INTERVISTA su PIATTAFORMA BENESSERE con A. PIRAS
DESCRIPTION:
URL:https://www.federicazanca.it/event/intervista-su-piattaforma-benessere-con-a-piras
END:VEVENT
BEGIN:VEVENT
DTSTART;VALUE=DATE:20200512
DTEND;VALUE=DATE:20200513
DTSTAMP:20260423T170059
CREATED:20200509T040253Z
LAST-MODIFIED:20200509T040253Z
UID:2218-1589241600-1589327999@www.federicazanca.it
SUMMARY:RUBRICA su INSTAGRAM con K.INSERRA "LE 5 FERITE EMOZIONALI"
DESCRIPTION:
URL:https://www.federicazanca.it/event/rubrica-su-instagram-con-k-inserra-le-5-ferite-emozionali
END:VEVENT
BEGIN:VEVENT
DTSTART;TZID=Europe/Rome:20200509T100000
DTEND;TZID=Europe/Rome:20200510T180000
DTSTAMP:20260423T170059
CREATED:20200402T174139Z
LAST-MODIFIED:20200506T095225Z
UID:2158-1589018400-1589133600@www.federicazanca.it
SUMMARY:PARTECIPAZIONE al BUK  FESTIVAL di MODENA  RIMANDATO
DESCRIPTION:
URL:https://www.federicazanca.it/event/partecipazione-al-buk-festival-di-modena
END:VEVENT
BEGIN:VEVENT
DTSTART;VALUE=DATE:20200508
DTEND;VALUE=DATE:20200509
DTSTAMP:20260423T170059
CREATED:20200402T174806Z
LAST-MODIFIED:20200402T174806Z
UID:2164-1588896000-1588982399@www.federicazanca.it
SUMMARY:CONFERENZA a OPPEANO rimandata dal 13.03.2020
DESCRIPTION:
URL:https://www.federicazanca.it/event/conferenza-a-oppeano-rimandata-dal-13-03-2020
END:VEVENT
BEGIN:VEVENT
DTSTART;VALUE=DATE:20200506
DTEND;VALUE=DATE:20200507
DTSTAMP:20260423T170059
CREATED:20200506T100911Z
LAST-MODIFIED:20200506T100911Z
UID:2208-1588723200-1588809599@www.federicazanca.it
SUMMARY:VIDEO CONFERENZA su INSTAGRAM  Il pensiero analogico
DESCRIPTION:
URL:https://www.federicazanca.it/event/video-conferenza-su-instagram-il-pensiero-analogico
END:VEVENT
BEGIN:VEVENT
DTSTART;VALUE=DATE:20200428
DTEND;VALUE=DATE:20200429
DTSTAMP:20260423T170059
CREATED:20200506T100758Z
LAST-MODIFIED:20200506T100758Z
UID:2206-1588032000-1588118399@www.federicazanca.it
SUMMARY:VIDEO CONFERENZA su INSTAGRAM Neuroni a specchio
DESCRIPTION:
URL:https://www.federicazanca.it/event/video-conferenza-su-instagram-neuroni-a-specchio
END:VEVENT
BEGIN:VEVENT
DTSTART;VALUE=DATE:20200422
DTEND;VALUE=DATE:20200423
DTSTAMP:20260423T170059
CREATED:20200506T100659Z
LAST-MODIFIED:20200506T100659Z
UID:2204-1587513600-1587599999@www.federicazanca.it
SUMMARY:VIDEO CONFERENZA su INSTAGRAM  Come gestire lo stress
DESCRIPTION:
URL:https://www.federicazanca.it/event/video-conferenza-su-instagram-come-gestire-lo-stress
END:VEVENT
BEGIN:VEVENT
DTSTART;VALUE=DATE:20200415
DTEND;VALUE=DATE:20200416
DTSTAMP:20260423T170059
CREATED:20200506T100532Z
LAST-MODIFIED:20200506T100532Z
UID:2202-1586908800-1586995199@www.federicazanca.it
SUMMARY:VIDEO CONFERENZA su INSTAGRAM  Come la donna affronta lo stress
DESCRIPTION:
URL:https://www.federicazanca.it/event/video-conferenza-su-instagram-come-la-donna-affronta-lo-stress
END:VEVENT
BEGIN:VEVENT
DTSTART;VALUE=DATE:20200408
DTEND;VALUE=DATE:20200409
DTSTAMP:20260423T170059
CREATED:20200506T100423Z
LAST-MODIFIED:20200506T100423Z
UID:2200-1586304000-1586390399@www.federicazanca.it
SUMMARY:VIDEOCONFERENZA  su INSTAGRAM Continuazione della rubrica precedente
DESCRIPTION:
URL:https://www.federicazanca.it/event/videoconferenza-su-instagram-continuazione-della-rubrica-precedente
END:VEVENT
BEGIN:VEVENT
DTSTART;VALUE=DATE:20200406
DTEND;VALUE=DATE:20200407
DTSTAMP:20260423T170059
CREATED:20200405T185054Z
LAST-MODIFIED:20200405T185054Z
UID:2171-1586131200-1586217599@www.federicazanca.it
SUMMARY:Video conferenza su Instagram con K.Inserra Continua la nostra rubrica su EMERGENZA COVID-19
DESCRIPTION:
URL:https://www.federicazanca.it/event/video-conferenza-su-instagram-con-k-inserra-continua-la-nostra-rubrica-su-emergenza-covid-19
END:VEVENT
BEGIN:VEVENT
DTSTART;VALUE=DATE:20200404
DTEND;VALUE=DATE:20200405
DTSTAMP:20260423T170059
CREATED:20200226T204703Z
LAST-MODIFIED:20200226T204703Z
UID:2124-1585958400-1586044799@www.federicazanca.it
SUMMARY:Trattamenti a Marotta Erboristeria Marofio
DESCRIPTION:
URL:https://www.federicazanca.it/event/trattamenti-a-marotta-erboristeria-marofio
END:VEVENT
BEGIN:VEVENT
DTSTART;VALUE=DATE:20200403
DTEND;VALUE=DATE:20200404
DTSTAMP:20260423T170059
CREATED:20200226T204330Z
LAST-MODIFIED:20200226T204330Z
UID:2122-1585872000-1585958399@www.federicazanca.it
SUMMARY:Presentazione del mio libro "L'ARTE DEL TOCCO"a Fano
DESCRIPTION:
URL:https://www.federicazanca.it/event/presentazione-del-mio-libro-larte-del-toccoa-fano
END:VEVENT
BEGIN:VEVENT
DTSTART;VALUE=DATE:20200402
DTEND;VALUE=DATE:20200403
DTSTAMP:20260423T170059
CREATED:20200402T174408Z
LAST-MODIFIED:20200402T174408Z
UID:2160-1585785600-1585871999@www.federicazanca.it
SUMMARY:RUBRICA con Katia Inserra COVID-19 Come affrontare la paura e il PTSD
DESCRIPTION:
URL:https://www.federicazanca.it/event/rubrica-con-katia-inserra-covid-19-come-affrontare-la-paura-e-il-ptsd
END:VEVENT
BEGIN:VEVENT
DTSTART;TZID=Europe/Rome:20200320T173000
DTEND;TZID=Europe/Rome:20200320T190000
DTSTAMP:20260423T170059
CREATED:20200212T204746Z
LAST-MODIFIED:20200320T193552Z
UID:2083-1584725400-1584730800@www.federicazanca.it
SUMMARY:PRESENTAZIONE a ISERNIA di DA CUORE A CUORE rimandata al 22/05/2020
DESCRIPTION:
URL:https://www.federicazanca.it/event/presentazione-a-isernia-di-da-cuore-a-cuore
END:VEVENT
BEGIN:VEVENT
DTSTART;TZID=Europe/Rome:20200314T150000
DTEND;TZID=Europe/Rome:20200314T190000
DTSTAMP:20260423T170059
CREATED:20200212T204652Z
LAST-MODIFIED:20200320T193730Z
UID:2081-1584198000-1584212400@www.federicazanca.it
SUMMARY:CONFERENZA a FERRARA su MALATTIE dell'APPARATO SCHELETRICO rimandata al 18 aprile2020
DESCRIPTION:
URL:https://www.federicazanca.it/event/conferenza-a-ferrara-malattie-dellapparato-scheletrico-in-psicosomatica
END:VEVENT
BEGIN:VEVENT
DTSTART;TZID=Europe/Rome:20200313T203000
DTEND;TZID=Europe/Rome:20200313T220000
DTSTAMP:20260423T170059
CREATED:20200212T204531Z
LAST-MODIFIED:20200320T193823Z
UID:2079-1584131400-1584136800@www.federicazanca.it
SUMMARY:CONFERENZA a OPPEANO "TRAUMI EMOTIVI FEMMINILI CON RISVOLTI SUL PIANO FISICO" rimandata a08/05/2020
DESCRIPTION:
URL:https://www.federicazanca.it/event/conferenza-a-oppeano-traumi-emotivi-femminili-con-risvolti-sul-piano-fisico
END:VEVENT
BEGIN:VEVENT
DTSTART;VALUE=DATE:20200313
DTEND;VALUE=DATE:20200314
DTSTAMP:20260423T170059
CREATED:20200313T152238Z
LAST-MODIFIED:20200313T152238Z
UID:2135-1584057600-1584143999@www.federicazanca.it
SUMMARY:DIRETTA FB con G.TAMO  ALLARME COVID19 TANTO AMORE E VIBRAZIONI ELEVATE per combattere la paura
DESCRIPTION:
URL:https://www.federicazanca.it/event/diretta-fb-con-g-tamo-allarme-covid19-tanto-amore-e-vibrazioni-elevate-per-combattere-la-paura
END:VEVENT
BEGIN:VEVENT
DTSTART;TZID=Europe/Rome:20200229T093000
DTEND;TZID=Europe/Rome:20200301T183000
DTSTAMP:20260423T170059
CREATED:20200212T204420Z
LAST-MODIFIED:20200320T193905Z
UID:2077-1582968600-1583087400@www.federicazanca.it
SUMMARY:CORSO di IPNOSI EMOTIVA a MILANO rimandato al 10/11 ottobre 2020
DESCRIPTION:
URL:https://www.federicazanca.it/event/corso-di-ipnosi-emotiva-a-milano
END:VEVENT
BEGIN:VEVENT
DTSTART;TZID=Europe/Rome:20200222T090000
DTEND;TZID=Europe/Rome:20200222T170000
DTSTAMP:20260423T170059
CREATED:20200212T204323Z
LAST-MODIFIED:20200212T204323Z
UID:2075-1582362000-1582390800@www.federicazanca.it
SUMMARY:OPEN DAY a MAROTTA presso Erboristeria Marofio
DESCRIPTION:
URL:https://www.federicazanca.it/event/open-day-a-marotta-presso-erboristeria-marofio
END:VEVENT
BEGIN:VEVENT
DTSTART;TZID=Europe/Rome:20200221T203000
DTEND;TZID=Europe/Rome:20200221T220000
DTSTAMP:20260423T170059
CREATED:20200212T204135Z
LAST-MODIFIED:20200212T204135Z
UID:2071-1582317000-1582322400@www.federicazanca.it
SUMMARY:Presentazione a Marotta di DA CUORE A CUORE
DESCRIPTION:
URL:https://www.federicazanca.it/event/presentazione-a-marotta-di-da-cuore-a-cuore
END:VEVENT
BEGIN:VEVENT
DTSTART;TZID=Europe/Rome:20200221T110000
DTEND;TZID=Europe/Rome:20200221T120000
DTSTAMP:20260423T170059
CREATED:20200212T204232Z
LAST-MODIFIED:20200212T204232Z
UID:2073-1582282800-1582286400@www.federicazanca.it
SUMMARY:CONFERENZA STAMPA a OPPEANO per incontro di marzo
DESCRIPTION:
URL:https://www.federicazanca.it/event/conferenza-stampa-a-oppeano-per-incontro-di-marzo
END:VEVENT
BEGIN:VEVENT
DTSTART;TZID=Europe/Rome:20200127T150000
DTEND;TZID=Europe/Rome:20200127T153000
DTSTAMP:20260423T170059
CREATED:20200212T204025Z
LAST-MODIFIED:20200212T204025Z
UID:2069-1580137200-1580139000@www.federicazanca.it
SUMMARY:INTERVISTA a TELENUOVO sul tema "Violenza sulle donne" con riferimento al mio romanzo autobiografico DA CUORE A CUORE
DESCRIPTION:
URL:https://www.federicazanca.it/event/intervista-a-telenuovo-sul-tema-violenza-sulle-donne-con-riferimento-al-mio-romanzo-autobiografico-da-cuore-a-cuore
END:VEVENT
BEGIN:VEVENT
DTSTART;TZID=Europe/Rome:20200111T150000
DTEND;TZID=Europe/Rome:20200111T163000
DTSTAMP:20260423T170059
CREATED:20200212T203843Z
LAST-MODIFIED:20200212T203843Z
UID:2067-1578754800-1578760200@www.federicazanca.it
SUMMARY:INCONTRO con il regista per Docu Fiction
DESCRIPTION:
URL:https://www.federicazanca.it/event/incontro-con-il-regista-per-docu-fiction
END:VEVENT
BEGIN:VEVENT
DTSTART;TZID=Europe/Rome:20200103T190000
DTEND;TZID=Europe/Rome:20200103T203000
DTSTAMP:20260423T170059
CREATED:20200212T203732Z
LAST-MODIFIED:20200212T203732Z
UID:2065-1578078000-1578083400@www.federicazanca.it
SUMMARY:Presentazione ad Acireale di DA CUORE A CUORE
DESCRIPTION:
URL:https://www.federicazanca.it/event/presentazione-ad-acireale-di-da-cuore-a-cuore
END:VEVENT
BEGIN:VEVENT
DTSTART;TZID=Europe/Rome:20191229T100000
DTEND;TZID=Europe/Rome:20191229T163000
DTSTAMP:20260423T170059
CREATED:20200212T203456Z
LAST-MODIFIED:20200212T203456Z
UID:2063-1577613600-1577637000@www.federicazanca.it
SUMMARY:SERVIZIO FOTOGRAFICO a MILANO con PINO BARBIERI
DESCRIPTION:
URL:https://www.federicazanca.it/event/servizio-fotografico-a-milano-con-pino-barbieri
END:VEVENT
BEGIN:VEVENT
DTSTART;TZID=Europe/Rome:20191215T173000
DTEND;TZID=Europe/Rome:20191215T200000
DTSTAMP:20260423T170059
CREATED:20200212T203347Z
LAST-MODIFIED:20200212T203347Z
UID:2061-1576431000-1576440000@www.federicazanca.it
SUMMARY:MEETING a SIRACUSA su DISINTOSSICAZIONE ALIMENTARE e PREVENZIONE LR
DESCRIPTION:
URL:https://www.federicazanca.it/event/meeting-a-siracusa-su-disintossicazione-alimentare-e-prevenzione-lr
END:VEVENT
BEGIN:VEVENT
DTSTART;TZID=Europe/Rome:20191207T153000
DTEND;TZID=Europe/Rome:20191207T170000
DTSTAMP:20260423T170059
CREATED:20200212T203215Z
LAST-MODIFIED:20200212T203215Z
UID:2059-1575732600-1575738000@www.federicazanca.it
SUMMARY:CORSO di SCRITTURA CREATIVA a FERRARA
DESCRIPTION:
URL:https://www.federicazanca.it/event/corso-di-scrittura-creativa-a-ferrara
END:VEVENT
END:VCALENDAR