BEGIN:VCALENDAR
VERSION:2.0
PRODID:-//Dott.ssa e Naturopata psicosomatico  Federica Zanca - ECPv6.15.20//NONSGML v1.0//EN
CALSCALE:GREGORIAN
METHOD:PUBLISH
X-ORIGINAL-URL:https://www.federicazanca.it
X-WR-CALDESC:Eventi per Dott.ssa e Naturopata psicosomatico  Federica Zanca
REFRESH-INTERVAL;VALUE=DURATION:PT1H
X-Robots-Tag:noindex
X-PUBLISHED-TTL:PT1H
BEGIN:VTIMEZONE
TZID:Europe/Rome
BEGIN:DAYLIGHT
TZOFFSETFROM:+0100
TZOFFSETTO:+0200
TZNAME:CEST
DTSTART:20170326T010000
END:DAYLIGHT
BEGIN:STANDARD
TZOFFSETFROM:+0200
TZOFFSETTO:+0100
TZNAME:CET
DTSTART:20171029T010000
END:STANDARD
BEGIN:DAYLIGHT
TZOFFSETFROM:+0100
TZOFFSETTO:+0200
TZNAME:CEST
DTSTART:20180325T010000
END:DAYLIGHT
BEGIN:STANDARD
TZOFFSETFROM:+0200
TZOFFSETTO:+0100
TZNAME:CET
DTSTART:20181028T010000
END:STANDARD
BEGIN:DAYLIGHT
TZOFFSETFROM:+0100
TZOFFSETTO:+0200
TZNAME:CEST
DTSTART:20190331T010000
END:DAYLIGHT
BEGIN:STANDARD
TZOFFSETFROM:+0200
TZOFFSETTO:+0100
TZNAME:CET
DTSTART:20191027T010000
END:STANDARD
BEGIN:DAYLIGHT
TZOFFSETFROM:+0100
TZOFFSETTO:+0200
TZNAME:CEST
DTSTART:20200329T010000
END:DAYLIGHT
BEGIN:STANDARD
TZOFFSETFROM:+0200
TZOFFSETTO:+0100
TZNAME:CET
DTSTART:20201025T010000
END:STANDARD
END:VTIMEZONE
BEGIN:VEVENT
DTSTART;VALUE=DATE:20190517
DTEND;VALUE=DATE:20190518
DTSTAMP:20260424T004406
CREATED:20190514T122035Z
LAST-MODIFIED:20190514T122035Z
UID:1475-1558051200-1558137599@www.federicazanca.it
SUMMARY:PARTECIPAZIONE al MAGGIO dei LIBRI FERRARA con il mio libro "DA CUORE A CUORE"
DESCRIPTION:
URL:https://www.federicazanca.it/event/partecipazione-al-maggio-dei-libri-ferrara-con-il-mio-libro-da-cuore-a-cuore
END:VEVENT
BEGIN:VEVENT
DTSTART;VALUE=DATE:20190511
DTEND;VALUE=DATE:20190512
DTSTAMP:20260424T004406
CREATED:20190424T141746Z
LAST-MODIFIED:20190424T141746Z
UID:1462-1557532800-1557619199@www.federicazanca.it
SUMMARY:PRESENTAZIONE del mio libro DA CUORE A CUORE a Torremaggiore FG
DESCRIPTION:
URL:https://www.federicazanca.it/event/presentazione-del-mio-libro-da-cuore-a-cuore-a-torremaggiore-fg
END:VEVENT
BEGIN:VEVENT
DTSTART;VALUE=DATE:20190510
DTEND;VALUE=DATE:20190511
DTSTAMP:20260424T004406
CREATED:20190424T141631Z
LAST-MODIFIED:20190424T141647Z
UID:1459-1557446400-1557532799@www.federicazanca.it
SUMMARY:PRESENTAZIONE del mio libro DA CUORE A CUORE a San Severo FG
DESCRIPTION:
URL:https://www.federicazanca.it/event/presentazione-del-mil-libro-da-cuore-a-cuore-a-san-severo-fg
END:VEVENT
BEGIN:VEVENT
DTSTART;VALUE=DATE:20190505
DTEND;VALUE=DATE:20190506
DTSTAMP:20260424T004406
CREATED:20190107T064217Z
LAST-MODIFIED:20190107T064217Z
UID:1328-1557014400-1557100799@www.federicazanca.it
SUMMARY:Presentazione del mio libro L'ARTE DEL TOCCO a Oristano
DESCRIPTION:
URL:https://www.federicazanca.it/event/presentazione-del-mio-libro-larte-del-tocco-a-oristano
END:VEVENT
BEGIN:VEVENT
DTSTART;VALUE=DATE:20190504
DTEND;VALUE=DATE:20190505
DTSTAMP:20260424T004406
CREATED:20190107T064050Z
LAST-MODIFIED:20190107T064050Z
UID:1326-1556928000-1557014399@www.federicazanca.it
SUMMARY:Presentazione del mio libro L'ARTE DEL TOCCO  a San Sperate- Cagliari
DESCRIPTION:
URL:https://www.federicazanca.it/event/presentazione-del-mio-libro-larte-del-tocco-a-san-sperate-cagliari
END:VEVENT
BEGIN:VEVENT
DTSTART;TZID=Europe/Rome:20190427T090000
DTEND;TZID=Europe/Rome:20190428T180000
DTSTAMP:20260424T004406
CREATED:20190206T193417Z
LAST-MODIFIED:20190206T193417Z
UID:1378-1556355600-1556474400@www.federicazanca.it
SUMMARY:CORSO di PSICOLOGIA CRIMINALE a ROMA
DESCRIPTION:
URL:https://www.federicazanca.it/event/corso-di-psicologia-criminale-a-roma
END:VEVENT
BEGIN:VEVENT
DTSTART;VALUE=DATE:20190413
DTEND;VALUE=DATE:20190414
DTSTAMP:20260424T004406
CREATED:20190225T153828Z
LAST-MODIFIED:20190225T153828Z
UID:1394-1555113600-1555199999@www.federicazanca.it
SUMMARY:Seminario di Igor Sibaldi a Cesena
DESCRIPTION:
URL:https://www.federicazanca.it/event/seminario-di-igor-sibaldi-a-cesena
END:VEVENT
BEGIN:VEVENT
DTSTART;VALUE=DATE:20190406
DTEND;VALUE=DATE:20190407
DTSTAMP:20260424T004406
CREATED:20190228T054739Z
LAST-MODIFIED:20190228T162744Z
UID:1398-1554508800-1554595199@www.federicazanca.it
SUMMARY:Presentazione ufficiale del mio libro "DA CUORE A CUORE" a Oppeano VR
DESCRIPTION:
URL:https://www.federicazanca.it/event/presentazione-del-mio-libro-da-cuore-a-cuore-a-oppeano-vr
END:VEVENT
BEGIN:VEVENT
DTSTART;VALUE=DATE:20190329
DTEND;VALUE=DATE:20190330
DTSTAMP:20260424T004406
CREATED:20190313T184526Z
LAST-MODIFIED:20190313T184526Z
UID:1412-1553817600-1553903999@www.federicazanca.it
SUMMARY:FERRARA Salotto letterario Dialogatrice dello scrittore R. Solinas
DESCRIPTION:
URL:https://www.federicazanca.it/event/ferrara-salotto-letterario-dialogatrice-dello-scrittore-r-solinas
END:VEVENT
BEGIN:VEVENT
DTSTART;VALUE=DATE:20190324
DTEND;VALUE=DATE:20190325
DTSTAMP:20260424T004406
CREATED:20181219T074304Z
LAST-MODIFIED:20181219T074304Z
UID:1300-1553385600-1553471999@www.federicazanca.it
SUMMARY:Partecipazione come scrittrice al salotto letterario a Ferrara
DESCRIPTION:
URL:https://www.federicazanca.it/event/partecipazione-come-scrittrice-al-salotto-letterario-a-ferrara
END:VEVENT
BEGIN:VEVENT
DTSTART;VALUE=DATE:20190321
DTEND;VALUE=DATE:20190322
DTSTAMP:20260424T004406
CREATED:20181219T074119Z
LAST-MODIFIED:20181219T075236Z
UID:1298-1553126400-1553212799@www.federicazanca.it
SUMMARY:Presentazione del mio libro "L'arte del tocco" a Pordenone presso Studio Naturopatia e benessere
DESCRIPTION:
URL:https://www.federicazanca.it/event/presentazione-del-mio-libro-larte-del-tocco-a-pordenone-presso-centro-olistico
END:VEVENT
BEGIN:VEVENT
DTSTART;VALUE=DATE:20190309
DTEND;VALUE=DATE:20190310
DTSTAMP:20260424T004406
CREATED:20190124T193359Z
LAST-MODIFIED:20190124T193359Z
UID:1339-1552089600-1552175999@www.federicazanca.it
SUMMARY:Conferenza su BEN-ESSERE DONNA a Oppeano VR
DESCRIPTION:
URL:https://www.federicazanca.it/event/conferenza-su-ben-essere-donna-a-oppeano-vr
END:VEVENT
BEGIN:VEVENT
DTSTART;VALUE=DATE:20190209
DTEND;VALUE=DATE:20190210
DTSTAMP:20260424T004406
CREATED:20190106T175043Z
LAST-MODIFIED:20190106T175043Z
UID:1324-1549670400-1549756799@www.federicazanca.it
SUMMARY:Corso di ASTROLOGIA PSICOLOGICO- EVOLUTIVA
DESCRIPTION:
URL:https://www.federicazanca.it/event/corso-di-astrologia-psicologico-evolutiva-3
END:VEVENT
BEGIN:VEVENT
DTSTART;VALUE=DATE:20190201
DTEND;VALUE=DATE:20190202
DTSTAMP:20260424T004406
CREATED:20190131T145116Z
LAST-MODIFIED:20190206T194320Z
UID:1354-1548979200-1549065599@www.federicazanca.it
SUMMARY:Conferenza stampa a Oppeano per conferenza del 9 marzo 2019! BEN-ESSERE DONNA
DESCRIPTION:
URL:https://www.federicazanca.it/event/conferenza-stampa-a-oppeano-per-conferenza-del-9-marzo-2018-ben-essere-donna
END:VEVENT
BEGIN:VEVENT
DTSTART;VALUE=DATE:20190126
DTEND;VALUE=DATE:20190127
DTSTAMP:20260424T004406
CREATED:20190106T174925Z
LAST-MODIFIED:20190106T174925Z
UID:1321-1548460800-1548547199@www.federicazanca.it
SUMMARY:Corso di ASTROLOGIA PSICOLOGICO- EVOLUTIVA
DESCRIPTION:
URL:https://www.federicazanca.it/event/corso-di-astrologia-psicologico-evolutiva-2
END:VEVENT
BEGIN:VEVENT
DTSTART;VALUE=DATE:20190112
DTEND;VALUE=DATE:20190113
DTSTAMP:20260424T004406
CREATED:20190106T174803Z
LAST-MODIFIED:20190106T174803Z
UID:1318-1547251200-1547337599@www.federicazanca.it
SUMMARY:Corso di ASTROLOGIA PSICOLOGICO-EVOLUTIVA
DESCRIPTION:
URL:https://www.federicazanca.it/event/corso-di-astrologia-psicologico-evolutiva
END:VEVENT
BEGIN:VEVENT
DTSTART;VALUE=DATE:20181231
DTEND;VALUE=DATE:20190101
DTSTAMP:20260424T004406
CREATED:20181221T153655Z
LAST-MODIFIED:20181221T153655Z
UID:1309-1546214400-1546300799@www.federicazanca.it
SUMMARY:INTERVISTA SU SALUTE E BENESSERE LIVE SOCIAL RADIO VR
DESCRIPTION:
URL:https://www.federicazanca.it/event/intervista-su-salute-e-benessere-live-social-radio-vr
END:VEVENT
BEGIN:VEVENT
DTSTART;VALUE=DATE:20181221
DTEND;VALUE=DATE:20181222
DTSTAMP:20260424T004406
CREATED:20181219T074513Z
LAST-MODIFIED:20181219T074513Z
UID:1302-1545350400-1545436799@www.federicazanca.it
SUMMARY:Intervista radio Live Social - Canale Italia "L'arte del tocco" Craniosacrale
DESCRIPTION:
URL:https://www.federicazanca.it/event/intervista-radio-live-social-canale-italia-larte-del-tocco-craniosacrale
END:VEVENT
BEGIN:VEVENT
DTSTART;TZID=Europe/Rome:20181117T093000
DTEND;TZID=Europe/Rome:20181118T170000
DTSTAMP:20260424T004406
CREATED:20181003T150525Z
LAST-MODIFIED:20181003T150525Z
UID:1257-1542447000-1542560400@www.federicazanca.it
SUMMARY:Corso Dien Chan livello avanzato
DESCRIPTION:
URL:https://www.federicazanca.it/event/corso-dien-chan-livello-avanzato
END:VEVENT
BEGIN:VEVENT
DTSTART;VALUE=DATE:20181111
DTEND;VALUE=DATE:20181112
DTSTAMP:20260424T004406
CREATED:20181023T185026Z
LAST-MODIFIED:20181023T185026Z
UID:1268-1541894400-1541980799@www.federicazanca.it
SUMMARY:Presentazione del mio libro presso il centro olistico Suvaran Tara di Cerignola
DESCRIPTION:
URL:https://www.federicazanca.it/event/presentazione-del-mio-libro-presso-il-centro-olistico-suvaran-tara-di-cerignola
END:VEVENT
BEGIN:VEVENT
DTSTART;VALUE=DATE:20181110
DTEND;VALUE=DATE:20181111
DTSTAMP:20260424T004406
CREATED:20180901T175614Z
LAST-MODIFIED:20180901T175614Z
UID:1210-1541808000-1541894399@www.federicazanca.it
SUMMARY:PRESENTAZIONE del MIO libro" L'arte del tocco" a Sogliano Lecce
DESCRIPTION:
URL:https://www.federicazanca.it/event/presentazione-del-mio-libro-larte-del-tocco-a-sogliano-lecce
END:VEVENT
BEGIN:VEVENT
DTSTART;VALUE=DATE:20181027
DTEND;VALUE=DATE:20181028
DTSTAMP:20260424T004406
CREATED:20180709T085158Z
LAST-MODIFIED:20180709T085158Z
UID:1169-1540598400-1540684799@www.federicazanca.it
SUMMARY:CONFERENZA a OPPEANO su MALATTIE in PSICOSOMATICA e PROVE di TRATTAMENTO
DESCRIPTION:
URL:https://www.federicazanca.it/event/conferenza-oppeano-malattie-psicosomatica-prove-trattamento
END:VEVENT
BEGIN:VEVENT
DTSTART;TZID=Europe/Rome:20181018T080000
DTEND;TZID=Europe/Rome:20181020T093000
DTSTAMP:20260424T004406
CREATED:20180816T191631Z
LAST-MODIFIED:20180816T191631Z
UID:1193-1539849600-1540027800@www.federicazanca.it
SUMMARY:Collaborazione studio medico San Severo FG
DESCRIPTION:
URL:https://www.federicazanca.it/event/collaborazione-studio-medico-san-severo-fg-7
END:VEVENT
BEGIN:VEVENT
DTSTART;VALUE=DATE:20181014
DTEND;VALUE=DATE:20181015
DTSTAMP:20260424T004406
CREATED:20181002T092441Z
LAST-MODIFIED:20181002T092441Z
UID:1249-1539475200-1539561599@www.federicazanca.it
SUMMARY:Presentazione del mio libro L'ARTE DEL TOCCO a FE Palazzo Crema
DESCRIPTION:
URL:https://www.federicazanca.it/event/presentazione-del-mio-libro-larte-del-tocco-a-fe-palazzo-crema
END:VEVENT
BEGIN:VEVENT
DTSTART;VALUE=DATE:20181012
DTEND;VALUE=DATE:20181013
DTSTAMP:20260424T004406
CREATED:20180823T100202Z
LAST-MODIFIED:20180823T100202Z
UID:1195-1539302400-1539388799@www.federicazanca.it
SUMMARY:PRESENTAZIONE del mio libro L'ARTE DEL TOCCO a ROMA
DESCRIPTION:
URL:https://www.federicazanca.it/event/presentazione-del-mio-libro-larte-del-tocco-roma
END:VEVENT
BEGIN:VEVENT
DTSTART;TZID=Europe/Rome:20180929T093000
DTEND;TZID=Europe/Rome:20180930T170000
DTSTAMP:20260424T004406
CREATED:20180916T130840Z
LAST-MODIFIED:20180916T130840Z
UID:1229-1538213400-1538326800@www.federicazanca.it
SUMMARY:Partecipazione al corso di Riflessologia Facciale Dien Chan
DESCRIPTION:
URL:https://www.federicazanca.it/event/partecipazione-al-corso-di-riflessologia-facciale-dien-chan
END:VEVENT
BEGIN:VEVENT
DTSTART;TZID=Europe/Rome:20180924T080000
DTEND;TZID=Europe/Rome:20180926T130000
DTSTAMP:20260424T004406
CREATED:20180816T191424Z
LAST-MODIFIED:20180816T191424Z
UID:1191-1537776000-1537966800@www.federicazanca.it
SUMMARY:Collaborazione studio medico San Severo FG
DESCRIPTION:
URL:https://www.federicazanca.it/event/collaborazione-studio-medico-san-severo-fg-6
END:VEVENT
BEGIN:VEVENT
DTSTART;TZID=Europe/Rome:20180921T113000
DTEND;TZID=Europe/Rome:20180921T123000
DTSTAMP:20260424T004406
CREATED:20180916T131023Z
LAST-MODIFIED:20180916T131023Z
UID:1231-1537529400-1537533000@www.federicazanca.it
SUMMARY:Conferenza Stampa a Oppeano presentazione" Ottobre in rosa" con la mia conferenza
DESCRIPTION:
URL:https://www.federicazanca.it/event/conferenza-stampa-a-oppeano-presentazione-ottobre-in-rosa-con-la-mia-conferenza
END:VEVENT
BEGIN:VEVENT
DTSTART;TZID=Europe/Rome:20180903T150000
DTEND;TZID=Europe/Rome:20180905T130000
DTSTAMP:20260424T004406
CREATED:20180816T191304Z
LAST-MODIFIED:20180816T191304Z
UID:1189-1535986800-1536152400@www.federicazanca.it
SUMMARY:Collaborazione studio medico San Severo FG
DESCRIPTION:
URL:https://www.federicazanca.it/event/collaborazione-studio-medico-san-severo-fg-5
END:VEVENT
BEGIN:VEVENT
DTSTART;TZID=Europe/Rome:20180727T160000
DTEND;TZID=Europe/Rome:20180730T110000
DTSTAMP:20260424T004406
CREATED:20180710T143201Z
LAST-MODIFIED:20180710T143201Z
UID:1174-1532707200-1532948400@www.federicazanca.it
SUMMARY:COLLABORAZIONE STUDIO MEDICO SAN SEVERO FG
DESCRIPTION:
URL:https://www.federicazanca.it/event/collaborazione-studio-medico-san-severo-fg-4
END:VEVENT
END:VCALENDAR