BEGIN:VCALENDAR
VERSION:2.0
PRODID:-//Dott.ssa e Naturopata psicosomatico  Federica Zanca - ECPv6.15.20//NONSGML v1.0//EN
CALSCALE:GREGORIAN
METHOD:PUBLISH
X-ORIGINAL-URL:https://www.federicazanca.it
X-WR-CALDESC:Eventi per Dott.ssa e Naturopata psicosomatico  Federica Zanca
REFRESH-INTERVAL;VALUE=DURATION:PT1H
X-Robots-Tag:noindex
X-PUBLISHED-TTL:PT1H
BEGIN:VTIMEZONE
TZID:Europe/Rome
BEGIN:DAYLIGHT
TZOFFSETFROM:+0100
TZOFFSETTO:+0200
TZNAME:CEST
DTSTART:20160327T010000
END:DAYLIGHT
BEGIN:STANDARD
TZOFFSETFROM:+0200
TZOFFSETTO:+0100
TZNAME:CET
DTSTART:20161030T010000
END:STANDARD
BEGIN:DAYLIGHT
TZOFFSETFROM:+0100
TZOFFSETTO:+0200
TZNAME:CEST
DTSTART:20170326T010000
END:DAYLIGHT
BEGIN:STANDARD
TZOFFSETFROM:+0200
TZOFFSETTO:+0100
TZNAME:CET
DTSTART:20171029T010000
END:STANDARD
BEGIN:DAYLIGHT
TZOFFSETFROM:+0100
TZOFFSETTO:+0200
TZNAME:CEST
DTSTART:20180325T010000
END:DAYLIGHT
BEGIN:STANDARD
TZOFFSETFROM:+0200
TZOFFSETTO:+0100
TZNAME:CET
DTSTART:20181028T010000
END:STANDARD
BEGIN:DAYLIGHT
TZOFFSETFROM:+0100
TZOFFSETTO:+0200
TZNAME:CEST
DTSTART:20190331T010000
END:DAYLIGHT
BEGIN:STANDARD
TZOFFSETFROM:+0200
TZOFFSETTO:+0100
TZNAME:CET
DTSTART:20191027T010000
END:STANDARD
END:VTIMEZONE
BEGIN:VEVENT
DTSTART;VALUE=DATE:20181110
DTEND;VALUE=DATE:20181111
DTSTAMP:20260424T025045
CREATED:20180901T175614Z
LAST-MODIFIED:20180901T175614Z
UID:1210-1541808000-1541894399@www.federicazanca.it
SUMMARY:PRESENTAZIONE del MIO libro" L'arte del tocco" a Sogliano Lecce
DESCRIPTION:
URL:https://www.federicazanca.it/event/presentazione-del-mio-libro-larte-del-tocco-a-sogliano-lecce
END:VEVENT
BEGIN:VEVENT
DTSTART;VALUE=DATE:20181027
DTEND;VALUE=DATE:20181028
DTSTAMP:20260424T025045
CREATED:20180709T085158Z
LAST-MODIFIED:20180709T085158Z
UID:1169-1540598400-1540684799@www.federicazanca.it
SUMMARY:CONFERENZA a OPPEANO su MALATTIE in PSICOSOMATICA e PROVE di TRATTAMENTO
DESCRIPTION:
URL:https://www.federicazanca.it/event/conferenza-oppeano-malattie-psicosomatica-prove-trattamento
END:VEVENT
BEGIN:VEVENT
DTSTART;TZID=Europe/Rome:20181018T080000
DTEND;TZID=Europe/Rome:20181020T093000
DTSTAMP:20260424T025045
CREATED:20180816T191631Z
LAST-MODIFIED:20180816T191631Z
UID:1193-1539849600-1540027800@www.federicazanca.it
SUMMARY:Collaborazione studio medico San Severo FG
DESCRIPTION:
URL:https://www.federicazanca.it/event/collaborazione-studio-medico-san-severo-fg-7
END:VEVENT
BEGIN:VEVENT
DTSTART;VALUE=DATE:20181014
DTEND;VALUE=DATE:20181015
DTSTAMP:20260424T025045
CREATED:20181002T092441Z
LAST-MODIFIED:20181002T092441Z
UID:1249-1539475200-1539561599@www.federicazanca.it
SUMMARY:Presentazione del mio libro L'ARTE DEL TOCCO a FE Palazzo Crema
DESCRIPTION:
URL:https://www.federicazanca.it/event/presentazione-del-mio-libro-larte-del-tocco-a-fe-palazzo-crema
END:VEVENT
BEGIN:VEVENT
DTSTART;VALUE=DATE:20181012
DTEND;VALUE=DATE:20181013
DTSTAMP:20260424T025045
CREATED:20180823T100202Z
LAST-MODIFIED:20180823T100202Z
UID:1195-1539302400-1539388799@www.federicazanca.it
SUMMARY:PRESENTAZIONE del mio libro L'ARTE DEL TOCCO a ROMA
DESCRIPTION:
URL:https://www.federicazanca.it/event/presentazione-del-mio-libro-larte-del-tocco-roma
END:VEVENT
BEGIN:VEVENT
DTSTART;TZID=Europe/Rome:20180929T093000
DTEND;TZID=Europe/Rome:20180930T170000
DTSTAMP:20260424T025045
CREATED:20180916T130840Z
LAST-MODIFIED:20180916T130840Z
UID:1229-1538213400-1538326800@www.federicazanca.it
SUMMARY:Partecipazione al corso di Riflessologia Facciale Dien Chan
DESCRIPTION:
URL:https://www.federicazanca.it/event/partecipazione-al-corso-di-riflessologia-facciale-dien-chan
END:VEVENT
BEGIN:VEVENT
DTSTART;TZID=Europe/Rome:20180924T080000
DTEND;TZID=Europe/Rome:20180926T130000
DTSTAMP:20260424T025045
CREATED:20180816T191424Z
LAST-MODIFIED:20180816T191424Z
UID:1191-1537776000-1537966800@www.federicazanca.it
SUMMARY:Collaborazione studio medico San Severo FG
DESCRIPTION:
URL:https://www.federicazanca.it/event/collaborazione-studio-medico-san-severo-fg-6
END:VEVENT
BEGIN:VEVENT
DTSTART;TZID=Europe/Rome:20180921T113000
DTEND;TZID=Europe/Rome:20180921T123000
DTSTAMP:20260424T025045
CREATED:20180916T131023Z
LAST-MODIFIED:20180916T131023Z
UID:1231-1537529400-1537533000@www.federicazanca.it
SUMMARY:Conferenza Stampa a Oppeano presentazione" Ottobre in rosa" con la mia conferenza
DESCRIPTION:
URL:https://www.federicazanca.it/event/conferenza-stampa-a-oppeano-presentazione-ottobre-in-rosa-con-la-mia-conferenza
END:VEVENT
BEGIN:VEVENT
DTSTART;TZID=Europe/Rome:20180903T150000
DTEND;TZID=Europe/Rome:20180905T130000
DTSTAMP:20260424T025045
CREATED:20180816T191304Z
LAST-MODIFIED:20180816T191304Z
UID:1189-1535986800-1536152400@www.federicazanca.it
SUMMARY:Collaborazione studio medico San Severo FG
DESCRIPTION:
URL:https://www.federicazanca.it/event/collaborazione-studio-medico-san-severo-fg-5
END:VEVENT
BEGIN:VEVENT
DTSTART;TZID=Europe/Rome:20180727T160000
DTEND;TZID=Europe/Rome:20180730T110000
DTSTAMP:20260424T025045
CREATED:20180710T143201Z
LAST-MODIFIED:20180710T143201Z
UID:1174-1532707200-1532948400@www.federicazanca.it
SUMMARY:COLLABORAZIONE STUDIO MEDICO SAN SEVERO FG
DESCRIPTION:
URL:https://www.federicazanca.it/event/collaborazione-studio-medico-san-severo-fg-4
END:VEVENT
BEGIN:VEVENT
DTSTART;TZID=Europe/Rome:20180629T170000
DTEND;TZID=Europe/Rome:20180704T130000
DTSTAMP:20260424T025045
CREATED:20180618T153412Z
LAST-MODIFIED:20180618T153412Z
UID:1155-1530291600-1530709200@www.federicazanca.it
SUMMARY:Collaborazione studio medico San Severo FG
DESCRIPTION:
URL:https://www.federicazanca.it/event/collaborazione-studio-medico-san-severo-fg-3
END:VEVENT
BEGIN:VEVENT
DTSTART;TZID=Europe/Rome:20180605T090000
DTEND;TZID=Europe/Rome:20180607T180000
DTSTAMP:20260424T025045
CREATED:20180502T074004Z
LAST-MODIFIED:20180502T074004Z
UID:1115-1528189200-1528394400@www.federicazanca.it
SUMMARY:COLLABORAZIONE studio medico di San SEVERO FG
DESCRIPTION:
URL:https://www.federicazanca.it/event/collaborazione-studio-medico-san-severo-fg-2
END:VEVENT
BEGIN:VEVENT
DTSTART;TZID=Europe/Rome:20180526T100000
DTEND;TZID=Europe/Rome:20180526T163000
DTSTAMP:20260424T025045
CREATED:20180420T095417Z
LAST-MODIFIED:20180420T095417Z
UID:1101-1527328800-1527352200@www.federicazanca.it
SUMMARY:PRESENTAZIONE DEL MIO LIBRO e TRATTAMENTI GRATUITI AL FESTIVAL DI ALTEDO     BOLOGNA
DESCRIPTION:
URL:https://www.federicazanca.it/event/presentazione-del-mio-libro-trattamenti-gratuiti-al-festival-altedo-bologna
END:VEVENT
BEGIN:VEVENT
DTSTART;TZID=Europe/Rome:20180522T080000
DTEND;TZID=Europe/Rome:20180522T190000
DTSTAMP:20260424T025045
CREATED:20180420T095235Z
LAST-MODIFIED:20180420T095549Z
UID:1099-1526976000-1527015600@www.federicazanca.it
SUMMARY:Collaborazione nello  studio medico Mastropasqua Foggia
DESCRIPTION:
URL:https://www.federicazanca.it/event/collaborazione-nell-studio-medico-mastropasqua-foggia
END:VEVENT
BEGIN:VEVENT
DTSTART;TZID=Europe/Rome:20180507T090000
DTEND;TZID=Europe/Rome:20180509T133000
DTSTAMP:20260424T025045
CREATED:20180420T095112Z
LAST-MODIFIED:20180420T095112Z
UID:1097-1525683600-1525872600@www.federicazanca.it
SUMMARY:Studio medico di Foggia Collaborazione mensile
DESCRIPTION:
URL:https://www.federicazanca.it/event/studio-medico-foggia-collaborazione-mensile
END:VEVENT
BEGIN:VEVENT
DTSTART;TZID=Europe/Rome:20180409T090000
DTEND;TZID=Europe/Rome:20180411T140000
DTSTAMP:20260424T025045
CREATED:20180318T143123Z
LAST-MODIFIED:20180318T143123Z
UID:1074-1523264400-1523455200@www.federicazanca.it
SUMMARY:Collaborazione nello studio medico di San Severo FG
DESCRIPTION:
URL:https://www.federicazanca.it/event/collaborazione-nello-studio-medico-san-severo-fg
END:VEVENT
BEGIN:VEVENT
DTSTART;VALUE=DATE:20180408
DTEND;VALUE=DATE:20180409
DTSTAMP:20260424T025045
CREATED:20180318T142921Z
LAST-MODIFIED:20180318T142921Z
UID:1072-1523145600-1523231999@www.federicazanca.it
SUMMARY:Presentazione del mio libro" L'arte del tocco " a Torremaggiore FG
DESCRIPTION:
URL:https://www.federicazanca.it/event/presentazione-del-mio-libro-larte-del-tocco-torremaggiore-fg
END:VEVENT
BEGIN:VEVENT
DTSTART;TZID=Europe/Rome:20180312T083000
DTEND;TZID=Europe/Rome:20180315T120000
DTSTAMP:20260424T025045
CREATED:20180211T092232Z
LAST-MODIFIED:20180211T092348Z
UID:1036-1520843400-1521115200@www.federicazanca.it
SUMMARY:Collaborazione studio medico di San Severo FG
DESCRIPTION:
URL:https://www.federicazanca.it/event/collaborazione-studio-medico-san-severo-fg
END:VEVENT
BEGIN:VEVENT
DTSTART;VALUE=DATE:20180310
DTEND;VALUE=DATE:20180311
DTSTAMP:20260424T025045
CREATED:20180216T111859Z
LAST-MODIFIED:20180216T111859Z
UID:1044-1520640000-1520726399@www.federicazanca.it
SUMMARY:Malattie in psicosomatica   CONFERENZA a OPPEANO presso Auditorium
DESCRIPTION:
URL:https://www.federicazanca.it/event/malattie-psicosomatica-conferenza-oppeano-presso-auditorium
END:VEVENT
BEGIN:VEVENT
DTSTART;VALUE=DATE:20180216
DTEND;VALUE=DATE:20180217
DTSTAMP:20260424T025045
CREATED:20180204T094750Z
LAST-MODIFIED:20180204T094750Z
UID:1034-1518739200-1518825599@www.federicazanca.it
SUMMARY:Presentazione del mio libro a Ferrara presso "Casa dell'Ariosto"
DESCRIPTION:
URL:https://www.federicazanca.it/event/presentazione-del-mio-libro-ferrara-presso-casa-dellariosto
END:VEVENT
BEGIN:VEVENT
DTSTART;TZID=Europe/Rome:20180205T090000
DTEND;TZID=Europe/Rome:20180208T120000
DTSTAMP:20260424T025045
CREATED:20171226T095827Z
LAST-MODIFIED:20171226T095827Z
UID:991-1517821200-1518091200@www.federicazanca.it
SUMMARY:Collaborazione studio di San Severo FG Trattamenti olistici di medicina naturale
DESCRIPTION:
URL:https://www.federicazanca.it/event/collaborazione-studio-san-severo-fg-trattamenti-olistici-medicina-naturale
END:VEVENT
BEGIN:VEVENT
DTSTART;TZID=Europe/Rome:20180203T170000
DTEND;TZID=Europe/Rome:20180203T180000
DTSTAMP:20260424T025045
CREATED:20171208T110316Z
LAST-MODIFIED:20171208T110316Z
UID:977-1517677200-1517680800@www.federicazanca.it
SUMMARY:Presentazione del mio libro a GiroBio di Ferrara
DESCRIPTION:
URL:https://www.federicazanca.it/event/presentazione-del-mio-libro-girobio-ferrara
END:VEVENT
BEGIN:VEVENT
DTSTART;TZID=Europe/Rome:20180127T100000
DTEND;TZID=Europe/Rome:20180128T160000
DTSTAMP:20260424T025045
CREATED:20171208T110948Z
LAST-MODIFIED:20171208T110948Z
UID:979-1517047200-1517155200@www.federicazanca.it
SUMMARY:Partecipazione al corso di Roy Martina su Power Kickstart Your Life
DESCRIPTION:
URL:https://www.federicazanca.it/event/partecipazione-al-corso-roy-martina-power-kickstart-your-life
END:VEVENT
BEGIN:VEVENT
DTSTART;TZID=Europe/Rome:20180111T173000
DTEND;TZID=Europe/Rome:20180113T120000
DTSTAMP:20260424T025045
CREATED:20171226T100134Z
LAST-MODIFIED:20171226T100134Z
UID:993-1515691800-1515844800@www.federicazanca.it
SUMMARY:Collaborazione studio San Severo FG Trattamenti olistici di medicina naturale
DESCRIPTION:
URL:https://www.federicazanca.it/event/collaborazione-studio-san-severo-fg-trattamenti-olistici-medicina-naturale-2
END:VEVENT
BEGIN:VEVENT
DTSTART;TZID=Europe/Rome:20180105T143000
DTEND;TZID=Europe/Rome:20180106T180000
DTSTAMP:20260424T025045
CREATED:20171226T100405Z
LAST-MODIFIED:20171226T100405Z
UID:995-1515162600-1515261600@www.federicazanca.it
SUMMARY:ROMA accordi per la richiesta della mia persona come docente presso un centro olistico
DESCRIPTION:
URL:https://www.federicazanca.it/event/roma-accordi-la-richiesta-della-mia-persona-docente-presso-un-centro-olistico
END:VEVENT
BEGIN:VEVENT
DTSTART;TZID=Europe/Rome:20171215T203000
DTEND;TZID=Europe/Rome:20171215T220000
DTSTAMP:20260424T025045
CREATED:20171122T113059Z
LAST-MODIFIED:20171122T113059Z
UID:945-1513369800-1513375200@www.federicazanca.it
SUMMARY:Presentazione del mio libro ad un corso per operatori del benessere Poggiolo Casola Valsenio RA
DESCRIPTION:
URL:https://www.federicazanca.it/event/presentazione-del-mio-libro-ad-un-corso-operatori-del-benessere-poggiolo-casola-valsenio-ra
END:VEVENT
BEGIN:VEVENT
DTSTART;VALUE=DATE:20171211
DTEND;VALUE=DATE:20171212
DTSTAMP:20260424T025045
CREATED:20171109T073840Z
LAST-MODIFIED:20171109T073840Z
UID:920-1512950400-1513036799@www.federicazanca.it
SUMMARY:PRESENTAZIONE del MIO LIBRO A FERRARA
DESCRIPTION:
URL:https://www.federicazanca.it/event/presentazione-del-mio-libro-ferrara
END:VEVENT
BEGIN:VEVENT
DTSTART;TZID=Europe/Rome:20171204T093000
DTEND;TZID=Europe/Rome:20171206T120000
DTSTAMP:20260424T025045
CREATED:20171122T112015Z
LAST-MODIFIED:20171122T112138Z
UID:941-1512379800-1512561600@www.federicazanca.it
SUMMARY:Collaborazione a dicembre studio Mastropasqua di  San Severo
DESCRIPTION:
URL:https://www.federicazanca.it/event/collaborazione-dicembre-studio-mastropasqua-san-severo
END:VEVENT
BEGIN:VEVENT
DTSTART;VALUE=DATE:20171202
DTEND;VALUE=DATE:20171203
DTSTAMP:20260424T025045
CREATED:20171106T110155Z
LAST-MODIFIED:20171106T110155Z
UID:910-1512172800-1512259199@www.federicazanca.it
SUMMARY:INTERVISTA RADIO per la presentazione del mio libro "L' arte del tocco" radio dolcevita di Ferrara
DESCRIPTION:
URL:https://www.federicazanca.it/event/intervista-radio-la-presentazione-del-mio-libro-l-arte-del-tocco-radio-dolcevita-ferrara
END:VEVENT
BEGIN:VEVENT
DTSTART;VALUE=DATE:20171201
DTEND;VALUE=DATE:20171202
DTSTAMP:20260424T025045
CREATED:20171103T183424Z
LAST-MODIFIED:20171103T183424Z
UID:899-1512086400-1512172799@www.federicazanca.it
SUMMARY:Presentazione del mio libro "L'arte del tocco" a Bovolone presso Associazione Dilettantistica Camminando
DESCRIPTION:
URL:https://www.federicazanca.it/event/presentazione-del-mio-libro-larte-del-tocco-bovolone-presso-associazione-dilettantistica-camminando
LOCATION:Associazione Camminando\, Bovolone VR
END:VEVENT
END:VCALENDAR