BEGIN:VCALENDAR
VERSION:2.0
PRODID:-//Dott.ssa e Naturopata psicosomatico  Federica Zanca - ECPv6.15.20//NONSGML v1.0//EN
CALSCALE:GREGORIAN
METHOD:PUBLISH
X-WR-CALNAME:Dott.ssa e Naturopata psicosomatico  Federica Zanca
X-ORIGINAL-URL:https://www.federicazanca.it
X-WR-CALDESC:Eventi per Dott.ssa e Naturopata psicosomatico  Federica Zanca
REFRESH-INTERVAL;VALUE=DURATION:PT1H
X-Robots-Tag:noindex
X-PUBLISHED-TTL:PT1H
BEGIN:VTIMEZONE
TZID:Europe/Rome
BEGIN:DAYLIGHT
TZOFFSETFROM:+0100
TZOFFSETTO:+0200
TZNAME:CEST
DTSTART:20160327T010000
END:DAYLIGHT
BEGIN:STANDARD
TZOFFSETFROM:+0200
TZOFFSETTO:+0100
TZNAME:CET
DTSTART:20161030T010000
END:STANDARD
BEGIN:DAYLIGHT
TZOFFSETFROM:+0100
TZOFFSETTO:+0200
TZNAME:CEST
DTSTART:20170326T010000
END:DAYLIGHT
BEGIN:STANDARD
TZOFFSETFROM:+0200
TZOFFSETTO:+0100
TZNAME:CET
DTSTART:20171029T010000
END:STANDARD
BEGIN:DAYLIGHT
TZOFFSETFROM:+0100
TZOFFSETTO:+0200
TZNAME:CEST
DTSTART:20180325T010000
END:DAYLIGHT
BEGIN:STANDARD
TZOFFSETFROM:+0200
TZOFFSETTO:+0100
TZNAME:CET
DTSTART:20181028T010000
END:STANDARD
END:VTIMEZONE
BEGIN:VEVENT
DTSTART;TZID=Europe/Rome:20170422T143000
DTEND;TZID=Europe/Rome:20170423T190000
DTSTAMP:20260424T072517
CREATED:20170424T142043Z
LAST-MODIFIED:20170424T142043Z
UID:450-1492871400-1492974000@www.federicazanca.it
SUMMARY:Meeting LR Riccione
DESCRIPTION:
URL:https://www.federicazanca.it/event/meeting-lr-riccione
END:VEVENT
BEGIN:VEVENT
DTSTART;TZID=Europe/Rome:20170422T080000
DTEND;TZID=Europe/Rome:20170422T123000
DTSTAMP:20260424T072517
CREATED:20170424T121437Z
LAST-MODIFIED:20170424T124336Z
UID:442-1492848000-1492864200@www.federicazanca.it
SUMMARY:Sabato 22 aprile (mattina) trattamenti olistici a Marotta
DESCRIPTION:
URL:https://www.federicazanca.it/event/sabato-22-aprile-mattina-trattamenti-olistici-marotta
END:VEVENT
BEGIN:VEVENT
DTSTART;VALUE=DATE:20170421
DTEND;VALUE=DATE:20170422
DTSTAMP:20260424T072517
CREATED:20170424T121350Z
LAST-MODIFIED:20170424T124424Z
UID:440-1492732800-1492819199@www.federicazanca.it
SUMMARY:Venerdì 21 aprile trattamenti olistici a Marotta
DESCRIPTION:
URL:https://www.federicazanca.it/event/venerdi-21-aprile-trattamenti-olistici-marotta
END:VEVENT
BEGIN:VEVENT
DTSTART;TZID=Europe/Rome:20170405T203000
DTEND;TZID=Europe/Rome:20170405T223000
DTSTAMP:20260424T072517
CREATED:20170424T154158Z
LAST-MODIFIED:20170424T154158Z
UID:471-1491424200-1491431400@www.federicazanca.it
SUMMARY:Cristalli e chakra Serata a Oppeano VR
DESCRIPTION:
URL:https://www.federicazanca.it/event/cristalli-chakra-serata-oppeano-vr
END:VEVENT
BEGIN:VEVENT
DTSTART;TZID=Europe/Rome:20170331T203000
DTEND;TZID=Europe/Rome:20170331T220000
DTSTAMP:20260424T072517
CREATED:20170424T153808Z
LAST-MODIFIED:20170424T153808Z
UID:465-1490992200-1490997600@www.federicazanca.it
SUMMARY:SERATA benessere e salute centro estetico Perfection a Villafontana VR
DESCRIPTION:
URL:https://www.federicazanca.it/event/serata-benessere-salute-centro-estetico-perfection-villafontana-vr
END:VEVENT
BEGIN:VEVENT
DTSTART;TZID=Europe/Rome:20170329T203000
DTEND;TZID=Europe/Rome:20170329T223000
DTSTAMP:20260424T072517
CREATED:20170424T154105Z
LAST-MODIFIED:20170424T154105Z
UID:469-1490819400-1490826600@www.federicazanca.it
SUMMARY:Malattie in psicosomatica
DESCRIPTION:
URL:https://www.federicazanca.it/event/malattie-in-psicosomatica
END:VEVENT
BEGIN:VEVENT
DTSTART;TZID=Europe/Rome:20170315T203000
DTEND;TZID=Europe/Rome:20170315T220000
DTSTAMP:20260424T072517
CREATED:20170424T154012Z
LAST-MODIFIED:20170424T154012Z
UID:467-1489609800-1489615200@www.federicazanca.it
SUMMARY:Serata informativa su benessere e salute Oppeano VR
DESCRIPTION:
URL:https://www.federicazanca.it/event/serata-informativa-benessere-salute-oppeano-vr
END:VEVENT
END:VCALENDAR