BEGIN:VCALENDAR
VERSION:2.0
PRODID:-//Dott.ssa e Naturopata psicosomatico  Federica Zanca - ECPv6.15.17.1//NONSGML v1.0//EN
CALSCALE:GREGORIAN
METHOD:PUBLISH
X-WR-CALNAME:Dott.ssa e Naturopata psicosomatico  Federica Zanca
X-ORIGINAL-URL:https://www.federicazanca.it
X-WR-CALDESC:Eventi per Dott.ssa e Naturopata psicosomatico  Federica Zanca
REFRESH-INTERVAL;VALUE=DURATION:PT1H
X-Robots-Tag:noindex
X-PUBLISHED-TTL:PT1H
BEGIN:VTIMEZONE
TZID:Europe/Rome
BEGIN:DAYLIGHT
TZOFFSETFROM:+0100
TZOFFSETTO:+0200
TZNAME:CEST
DTSTART:20200329T010000
END:DAYLIGHT
BEGIN:STANDARD
TZOFFSETFROM:+0200
TZOFFSETTO:+0100
TZNAME:CET
DTSTART:20201025T010000
END:STANDARD
BEGIN:DAYLIGHT
TZOFFSETFROM:+0100
TZOFFSETTO:+0200
TZNAME:CEST
DTSTART:20210328T010000
END:DAYLIGHT
BEGIN:STANDARD
TZOFFSETFROM:+0200
TZOFFSETTO:+0100
TZNAME:CET
DTSTART:20211031T010000
END:STANDARD
BEGIN:DAYLIGHT
TZOFFSETFROM:+0100
TZOFFSETTO:+0200
TZNAME:CEST
DTSTART:20220327T010000
END:DAYLIGHT
BEGIN:STANDARD
TZOFFSETFROM:+0200
TZOFFSETTO:+0100
TZNAME:CET
DTSTART:20221030T010000
END:STANDARD
BEGIN:DAYLIGHT
TZOFFSETFROM:+0100
TZOFFSETTO:+0200
TZNAME:CEST
DTSTART:20230326T010000
END:DAYLIGHT
BEGIN:STANDARD
TZOFFSETFROM:+0200
TZOFFSETTO:+0100
TZNAME:CET
DTSTART:20231029T010000
END:STANDARD
END:VTIMEZONE
BEGIN:VEVENT
DTSTART;VALUE=DATE:20220518
DTEND;VALUE=DATE:20220519
DTSTAMP:20260421T120911
CREATED:20220708T032142Z
LAST-MODIFIED:20220708T032142Z
UID:3354-1652832000-1652918399@www.federicazanca.it
SUMMARY:Zoom LR con R. Pastoressa " Ben -essere donna a tutto tondo"
DESCRIPTION:
URL:https://www.federicazanca.it/event/zoom-lr-con-r-pastoressa-ben-essere-donna-a-tutto-tondo
END:VEVENT
BEGIN:VEVENT
DTSTART;VALUE=DATE:20220514
DTEND;VALUE=DATE:20220515
DTSTAMP:20260421T120911
CREATED:20220325T122608Z
LAST-MODIFIED:20220325T122608Z
UID:3317-1652486400-1652572799@www.federicazanca.it
SUMMARY:Conferenza per COBE a Oppeano Importanza della cristalloterapia
DESCRIPTION:
URL:https://www.federicazanca.it/event/conferenza-per-cobe-a-oppeano-importanza-della-cristalloterapia
END:VEVENT
BEGIN:VEVENT
DTSTART;VALUE=DATE:20220429
DTEND;VALUE=DATE:20220430
DTSTAMP:20260421T120911
CREATED:20220409T102603Z
LAST-MODIFIED:20220409T102635Z
UID:3323-1651190400-1651276799@www.federicazanca.it
SUMMARY:CONFERENZA sulla FIBROMIALGIA a Cerea VR
DESCRIPTION:
URL:https://www.federicazanca.it/event/conferenza-sulla-fibromialgia-cerea
END:VEVENT
BEGIN:VEVENT
DTSTART;VALUE=DATE:20220413
DTEND;VALUE=DATE:20220414
DTSTAMP:20260421T120911
CREATED:20220316T191848Z
LAST-MODIFIED:20220316T191848Z
UID:3292-1649808000-1649894399@www.federicazanca.it
SUMMARY:Zoom per LR invitata da R.Pastoressa sul tema "Disarmonie dell'apparato cutaneo in visione psicosomatica"
DESCRIPTION:
URL:https://www.federicazanca.it/event/zoom-per-lr-invitata-da-r-pastoressa-sul-tema-disarmonie-dellapparato-cutaneo-in-visione-psicosomatica
END:VEVENT
BEGIN:VEVENT
DTSTART;VALUE=DATE:20220404
DTEND;VALUE=DATE:20220405
DTSTAMP:20260421T120911
CREATED:20220316T191538Z
LAST-MODIFIED:20220316T191538Z
UID:3290-1649030400-1649116799@www.federicazanca.it
SUMMARY:Intervista da Segnalazione letterarie sul tema "Il viaggio interiore alla ricerca dell'anima"
DESCRIPTION:
URL:https://www.federicazanca.it/event/intervista-da-segnalazione-letterarie-sul-tema-il-viaggio-interiore-alla-ricerca-dellanima
END:VEVENT
BEGIN:VEVENT
DTSTART;TZID=Europe/Rome:20220402T100000
DTEND;TZID=Europe/Rome:20220403T170000
DTSTAMP:20260421T120911
CREATED:20220325T060324Z
LAST-MODIFIED:20220325T060324Z
UID:3315-1648893600-1649005200@www.federicazanca.it
SUMMARY:Corso approfondimento IPNOSI e MESMERISMO con M.Paret a Roma
DESCRIPTION:
URL:https://www.federicazanca.it/event/corso-approfondimento-ipnosi-e-mesmerismo-con-m-paret-a-roma
END:VEVENT
BEGIN:VEVENT
DTSTART;VALUE=DATE:20220320
DTEND;VALUE=DATE:20220321
DTSTAMP:20260421T120911
CREATED:20220309T193458Z
LAST-MODIFIED:20220309T193819Z
UID:3286-1647734400-1647820799@www.federicazanca.it
SUMMARY:Conferenza per COBE sulla cristalloterapia "NON SOLO SASSI"  al Paideia Ferrara
DESCRIPTION:
URL:https://www.federicazanca.it/event/conferenza-per-cobe-sulla-cristalloterapia-non-solo-sassi-al-paideia-ferrara
END:VEVENT
BEGIN:VEVENT
DTSTART;VALUE=DATE:20220316
DTEND;VALUE=DATE:20220317
DTSTAMP:20260421T120911
CREATED:20220129T071229Z
LAST-MODIFIED:20220129T071229Z
UID:3254-1647388800-1647475199@www.federicazanca.it
SUMMARY:Zoom LR invitata da R. Pastoressa " Asse intestino-cervello Depuriamoci completamente!"
DESCRIPTION:
URL:https://www.federicazanca.it/event/zoom-lr-invitata-da-r-pastoressa-asse-intestino-cervello-depuriamoci-completamente
END:VEVENT
BEGIN:VEVENT
DTSTART;TZID=Europe/Rome:20220305T090000
DTEND;TZID=Europe/Rome:20220306T170000
DTSTAMP:20260421T120911
CREATED:20220301T050201Z
LAST-MODIFIED:20220301T050201Z
UID:3279-1646470800-1646586000@www.federicazanca.it
SUMMARY:IPNOSI a TORINO con Dr. Marco Paret - Corso di aggiornamento-
DESCRIPTION:
URL:https://www.federicazanca.it/event/ipnosi-a-torino-con-dr-marco-paret-corso-di-aggiornamento
END:VEVENT
BEGIN:VEVENT
DTSTART;VALUE=DATE:20220227
DTEND;VALUE=DATE:20220228
DTSTAMP:20260421T120911
CREATED:20220130T154257Z
LAST-MODIFIED:20220130T154257Z
UID:3256-1645920000-1646006399@www.federicazanca.it
SUMMARY:PRESENTAZIONE CRISTALLI per COBE a Ferrara
DESCRIPTION:
URL:https://www.federicazanca.it/event/presentazione-cristalli-per-cobe-a-ferrara
END:VEVENT
BEGIN:VEVENT
DTSTART;VALUE=DATE:20220216
DTEND;VALUE=DATE:20220217
DTSTAMP:20260421T120911
CREATED:20220129T071039Z
LAST-MODIFIED:20220129T071039Z
UID:3252-1644969600-1645055999@www.federicazanca.it
SUMMARY:Zoom LR invitata da R.Pastoressa "Noi sovrani sulle nostre paure Come uscire vincenti dal momento storico attuale"
DESCRIPTION:
URL:https://www.federicazanca.it/event/zoom-lr-invitata-da-r-pastoressa-noi-sovrani-sulle-nostre-paure-come-uscire-vincenti-dal-momento-storico-attuale
END:VEVENT
BEGIN:VEVENT
DTSTART;VALUE=DATE:20220107
DTEND;VALUE=DATE:20220108
DTSTAMP:20260421T120911
CREATED:20211227T164214Z
LAST-MODIFIED:20211227T164214Z
UID:3245-1641513600-1641599999@www.federicazanca.it
SUMMARY:Relatrice presso SCACCO MATTO invitata dal Dott.Fezza TERAPIE OLISTICHE a beneficio di stati d'ansia e stress
DESCRIPTION:
URL:https://www.federicazanca.it/event/relatrice-presso-scacco-matto-invitata-dal-dott-fezza-terapie-olistiche-a-beneficio-di-stati-dansia-e-stress
END:VEVENT
BEGIN:VEVENT
DTSTART;VALUE=DATE:20211223
DTEND;VALUE=DATE:20211224
DTSTAMP:20260421T120911
CREATED:20211203T113759Z
LAST-MODIFIED:20211203T113759Z
UID:3226-1640217600-1640303999@www.federicazanca.it
SUMMARY:Intervista a me scrittrice con Agata Sava e Francesco di Catania Presentazione anche del mio cortometraggio per la regia di M. Trovato ospite alla diretta
DESCRIPTION:
URL:https://www.federicazanca.it/event/intervista-a-me-scrittrice-con-agata-sava-e-francesco-di-catania-presentazione-anche-del-mio-cortometraggio-per-la-regia-di-m-trovato-ospite-alla-diretta
END:VEVENT
BEGIN:VEVENT
DTSTART;VALUE=DATE:20211222
DTEND;VALUE=DATE:20211223
DTSTAMP:20260421T120911
CREATED:20211207T080509Z
LAST-MODIFIED:20211207T080509Z
UID:3231-1640131200-1640217599@www.federicazanca.it
SUMMARY:Zoom sull'insonnia e rimedi naturali Invitata da A. Verrino-Calabria-
DESCRIPTION:
URL:https://www.federicazanca.it/event/zoom-sullinsonnia-e-rimedi-naturali-invitata-da-a-verrino-calabria
END:VEVENT
BEGIN:VEVENT
DTSTART;TZID=Europe/Rome:20211216T100000
DTEND;TZID=Europe/Rome:20211219T170000
DTSTAMP:20260421T120911
CREATED:20211108T103956Z
LAST-MODIFIED:20211108T103956Z
UID:3174-1639648800-1639933200@www.federicazanca.it
SUMMARY:FORMAZIONE-CORSO IPNOSI con M.Paret MILANO
DESCRIPTION:
URL:https://www.federicazanca.it/event/formazione-corso-ipnosi-con-m-paret-milano
END:VEVENT
BEGIN:VEVENT
DTSTART;VALUE=DATE:20211127
DTEND;VALUE=DATE:20211128
DTSTAMP:20260421T120911
CREATED:20211019T124628Z
LAST-MODIFIED:20211019T124628Z
UID:3103-1637971200-1638057599@www.federicazanca.it
SUMMARY:Ottobre in rosa ...relatrice a Lagosanto FE Il tumore in visione psicosomatica e importanza delle terapie olistiche come aiuto e sostegno alla cura medica allopatica
DESCRIPTION:
URL:https://www.federicazanca.it/event/ottobre-in-rosa-relatrice-a-lagosanto-fe-il-tumore-in-visione-psicosomatica-e-importanza-delle-terapie-olistiche-come-aiuto-e-sostegno-alla-cura-medica-allopatica
END:VEVENT
BEGIN:VEVENT
DTSTART;VALUE=DATE:20211125
DTEND;VALUE=DATE:20211126
DTSTAMP:20260421T120911
CREATED:20211027T115331Z
LAST-MODIFIED:20211027T115331Z
UID:3125-1637798400-1637884799@www.federicazanca.it
SUMMARY:Relatrice a Palù nella serata dedicata alla VIOLENZA sulle DONNE e PRESENTAZIONE del mio cortometraggio tratto dal libro DA CUORE A CUORE
DESCRIPTION:
URL:https://www.federicazanca.it/event/relatrice-a-palu-nella-serata-dedicata-alla-violenza-sulle-donne-e-presentazione-del-mio-cortometraggio-tratto-dal-libro-da-cuore-a-cuore
END:VEVENT
BEGIN:VEVENT
DTSTART;TZID=Europe/Rome:20211120T100000
DTEND;TZID=Europe/Rome:20211121T180000
DTSTAMP:20260421T120911
CREATED:20210925T165641Z
LAST-MODIFIED:20210925T165641Z
UID:3073-1637402400-1637517600@www.federicazanca.it
SUMMARY:PREVENZIONE OLISTICA con il Dott. Cusani su Zoom
DESCRIPTION:
URL:https://www.federicazanca.it/event/prevenzione-olistica-con-il-dott-cusani-su-zoom
END:VEVENT
BEGIN:VEVENT
DTSTART;VALUE=DATE:20211113
DTEND;VALUE=DATE:20211114
DTSTAMP:20260421T120911
CREATED:20210925T165525Z
LAST-MODIFIED:20210925T165827Z
UID:3071-1636761600-1636847999@www.federicazanca.it
SUMMARY:RELATRICE all'incontro a  OPPEANO sul tema...FIBROMIALGIA: CAUSE\, SINTOMI E RIMEDI NATURALI
DESCRIPTION:
URL:https://www.federicazanca.it/event/fibromialgia-cause-sintomi-e-rimedi-naturali
END:VEVENT
BEGIN:VEVENT
DTSTART;VALUE=DATE:20211111
DTEND;VALUE=DATE:20211112
DTSTAMP:20260421T120911
CREATED:20211012T152747Z
LAST-MODIFIED:20211012T152748Z
UID:3098-1636588800-1636675199@www.federicazanca.it
SUMMARY:Invitata da Tiziana Fenili a tenere un incontro on line per presentare il mio romanzo autobiografico "Da cuore a cuore"
DESCRIPTION:
URL:https://www.federicazanca.it/event/invitata-da-tiziana-fenili-a-tenere-un-incontro-on-line-per-presentare-il-mio-romanzo-autobiografico-da-cuore-a-cuore
END:VEVENT
BEGIN:VEVENT
DTSTART;VALUE=DATE:20211109
DTEND;VALUE=DATE:20211110
DTSTAMP:20260421T120911
CREATED:20211029T121003Z
LAST-MODIFIED:20211029T121003Z
UID:3127-1636416000-1636502399@www.federicazanca.it
SUMMARY:Intervista on line tramite Argentodorato Editore su piattaforma zoom
DESCRIPTION:
URL:https://www.federicazanca.it/event/intervista-on-line-tramite-argentodorato-editore-su-piattaforma-zoom
END:VEVENT
BEGIN:VEVENT
DTSTART;VALUE=DATE:20211106
DTEND;VALUE=DATE:20211107
DTSTAMP:20260421T120911
CREATED:20211019T124406Z
LAST-MODIFIED:20211019T124406Z
UID:3101-1636156800-1636243199@www.federicazanca.it
SUMMARY:Uso dei cristalli a scopo terapeutico...invitata da COBE S.p.A come cristalloterapeuta
DESCRIPTION:
URL:https://www.federicazanca.it/event/uso-dei-cristalli-a-scopo-terapeutico-invitata-da-cobe-s-p-a-come-cristalloterapeuta
END:VEVENT
BEGIN:VEVENT
DTSTART;VALUE=DATE:20211105
DTEND;VALUE=DATE:20211106
DTSTAMP:20260421T120911
CREATED:20210928T085847Z
LAST-MODIFIED:20210928T085847Z
UID:3078-1636070400-1636156799@www.federicazanca.it
SUMMARY:DISINTOSSICAZIONE ALIMENTARE e CIBO NUTRACEUTICO Relatrice al Palù VR
DESCRIPTION:
URL:https://www.federicazanca.it/event/disintossicazione-alimentare-e-cibo-nutraceutico-relatrice-al-palu-vr
END:VEVENT
BEGIN:VEVENT
DTSTART;VALUE=DATE:20211104
DTEND;VALUE=DATE:20211105
DTSTAMP:20260421T120911
CREATED:20211007T144142Z
LAST-MODIFIED:20211012T152443Z
UID:3093-1635984000-1636070399@www.federicazanca.it
SUMMARY:Invitata da Tiziana Fenili a tenere un incontro on line sulla terapia olistica craniosacrale e presentazione  del mio libro "L'arte del tocco"
DESCRIPTION:
URL:https://www.federicazanca.it/event/invitata-da-tiziana-fenili-a-tenere-un-incontro-on-line-sulla-presentazione-del-mio-libro-autobiografico-da-cuore-a-cuore
END:VEVENT
BEGIN:VEVENT
DTSTART;VALUE=DATE:20211022
DTEND;VALUE=DATE:20211023
DTSTAMP:20260421T120911
CREATED:20210928T085639Z
LAST-MODIFIED:20210928T085639Z
UID:3076-1634860800-1634947199@www.federicazanca.it
SUMMARY:DISINTOSSICAZIONE PSICO-EMOTIVA Relatrice al Palù VR
DESCRIPTION:
URL:https://www.federicazanca.it/event/disintossicazione-psico-emotiva-relatrice-al-palu-vr
END:VEVENT
BEGIN:VEVENT
DTSTART;VALUE=DATE:20211021
DTEND;VALUE=DATE:20211022
DTSTAMP:20260421T120911
CREATED:20211019T124940Z
LAST-MODIFIED:20211019T124940Z
UID:3106-1634774400-1634860799@www.federicazanca.it
SUMMARY:Intervista a Tele Radio Adige ...come affrontare il momento storico attuale attraverso le terapie olistiche di medicina naturale
DESCRIPTION:
URL:https://www.federicazanca.it/event/intervista-a-tele-radio-adige-come-affrontare-il-momento-storico-attuale-attraverso-le-terapie-olistiche-di-medicina-naturale
END:VEVENT
BEGIN:VEVENT
DTSTART;VALUE=DATE:20211002
DTEND;VALUE=DATE:20211003
DTSTAMP:20260421T120911
CREATED:20210925T165241Z
LAST-MODIFIED:20210925T165241Z
UID:3069-1633132800-1633219199@www.federicazanca.it
SUMMARY:ANGELOLOGIA...formazione con Igor Sibaldi a PD
DESCRIPTION:
URL:https://www.federicazanca.it/event/angelologia-formazione-con-igor-sibaldi-a-pd
END:VEVENT
BEGIN:VEVENT
DTSTART;VALUE=DATE:20210925
DTEND;VALUE=DATE:20210926
DTSTAMP:20260421T120911
CREATED:20210829T192839Z
LAST-MODIFIED:20210925T165111Z
UID:3053-1632528000-1632614399@www.federicazanca.it
SUMMARY:Incontro a "La Bettola del prataiolo" Badia di Susinana Parlerò di come alimentarsi in modo corretto dopo un percorso di depurazione Evento rimandato
DESCRIPTION:
URL:https://www.federicazanca.it/event/incontro-a-la-bettola-del-prataiolo-badia-di-susinana-parlero-di-come-alimentarsi-in-modo-corretto-dopo-un-percorso-detox
END:VEVENT
BEGIN:VEVENT
DTSTART;VALUE=DATE:20210919
DTEND;VALUE=DATE:20210920
DTSTAMP:20260421T120911
CREATED:20210829T192613Z
LAST-MODIFIED:20211019T182404Z
UID:3051-1632009600-1632095999@www.federicazanca.it
SUMMARY:Relatrice al Meeting COBE come cristalloterapeuta Evento rimandato al 6 novembre 2021
DESCRIPTION:
URL:https://www.federicazanca.it/event/relatrice-al-meeting-cobe-importanza-dei-cristalli-contenuti-nei-loro-prodotti-a-scopo-terapeutico
END:VEVENT
BEGIN:VEVENT
DTSTART;VALUE=DATE:20210918
DTEND;VALUE=DATE:20210919
DTSTAMP:20260421T120911
CREATED:20210829T193139Z
LAST-MODIFIED:20210917T043220Z
UID:3055-1631923200-1632009599@www.federicazanca.it
SUMMARY:Relatrice a Ferrara Incontro di formazione sul tema "Disintossicazione alimentare ed emotiva" Evento rimandato
DESCRIPTION:
URL:https://www.federicazanca.it/event/relatrice-a-ferrara-incontro-di-formazione-dove-parlero-di-disintossicazione-alimentare-ed-emotiva
END:VEVENT
END:VCALENDAR