BEGIN:VCALENDAR
VERSION:2.0
PRODID:-//Dott.ssa e Naturopata psicosomatico  Federica Zanca - ECPv6.15.17.1//NONSGML v1.0//EN
CALSCALE:GREGORIAN
METHOD:PUBLISH
X-ORIGINAL-URL:https://www.federicazanca.it
X-WR-CALDESC:Eventi per Dott.ssa e Naturopata psicosomatico  Federica Zanca
REFRESH-INTERVAL;VALUE=DURATION:PT1H
X-Robots-Tag:noindex
X-PUBLISHED-TTL:PT1H
BEGIN:VTIMEZONE
TZID:Europe/Rome
BEGIN:DAYLIGHT
TZOFFSETFROM:+0100
TZOFFSETTO:+0200
TZNAME:CEST
DTSTART:20200329T010000
END:DAYLIGHT
BEGIN:STANDARD
TZOFFSETFROM:+0200
TZOFFSETTO:+0100
TZNAME:CET
DTSTART:20201025T010000
END:STANDARD
BEGIN:DAYLIGHT
TZOFFSETFROM:+0100
TZOFFSETTO:+0200
TZNAME:CEST
DTSTART:20210328T010000
END:DAYLIGHT
BEGIN:STANDARD
TZOFFSETFROM:+0200
TZOFFSETTO:+0100
TZNAME:CET
DTSTART:20211031T010000
END:STANDARD
BEGIN:DAYLIGHT
TZOFFSETFROM:+0100
TZOFFSETTO:+0200
TZNAME:CEST
DTSTART:20220327T010000
END:DAYLIGHT
BEGIN:STANDARD
TZOFFSETFROM:+0200
TZOFFSETTO:+0100
TZNAME:CET
DTSTART:20221030T010000
END:STANDARD
END:VTIMEZONE
BEGIN:VEVENT
DTSTART;TZID=Europe/Rome:20210828T150000
DTEND;TZID=Europe/Rome:20210829T123000
DTSTAMP:20260421T161808
CREATED:20210828T033515Z
LAST-MODIFIED:20210828T033515Z
UID:3049-1630162800-1630240200@www.federicazanca.it
SUMMARY:Convention ad Assisi invitata da COBE
DESCRIPTION:
URL:https://www.federicazanca.it/event/convention-ad-assisi-invitata-da-cobe
END:VEVENT
BEGIN:VEVENT
DTSTART;VALUE=DATE:20210710
DTEND;VALUE=DATE:20210711
DTSTAMP:20260421T161808
CREATED:20210720T181719Z
LAST-MODIFIED:20210720T181719Z
UID:3040-1625875200-1625961599@www.federicazanca.it
SUMMARY:Festa Argentodorato Editore a Ferrara Palazzo Scroffa
DESCRIPTION:
URL:https://www.federicazanca.it/event/festa-argentodorato-editore-a-ferrara-palazzo-scroffa
END:VEVENT
BEGIN:VEVENT
DTSTART;VALUE=DATE:20210708
DTEND;VALUE=DATE:20210709
DTSTAMP:20260421T161808
CREATED:20210625T193532Z
LAST-MODIFIED:20210625T193532Z
UID:3033-1625702400-1625788799@www.federicazanca.it
SUMMARY:Zoom dal titolo "DISINTOSSICAZIONE PSICO-EMOTIVA: come gestire la paura" invitata da B. Colicino partner LR di Torino
DESCRIPTION:
URL:https://www.federicazanca.it/event/zoom-dal-titolo-disintossicazione-psico-emotiva-come-gestire-la-paura-invitata-da-b-colicino-partner-lr-di-torino
END:VEVENT
BEGIN:VEVENT
DTSTART;VALUE=DATE:20210701
DTEND;VALUE=DATE:20210702
DTSTAMP:20260421T161808
CREATED:20210625T193337Z
LAST-MODIFIED:20210625T193337Z
UID:3031-1625097600-1625183999@www.federicazanca.it
SUMMARY:Zoom sulla SCLEROSI MULTIPLA invitata da A. Verrino partner LR regione Calabria
DESCRIPTION:
URL:https://www.federicazanca.it/event/zoom-sulla-sclerosi-multipla-invitata-da-a-verrino-partner-lr-regione-calabria
END:VEVENT
BEGIN:VEVENT
DTSTART;VALUE=DATE:20210627
DTEND;VALUE=DATE:20210628
DTSTAMP:20260421T161808
CREATED:20210531T191113Z
LAST-MODIFIED:20210531T191113Z
UID:2931-1624752000-1624838399@www.federicazanca.it
SUMMARY:Conferenza a Oppeano in una giornata a tema "Disintossicazione alimentare"
DESCRIPTION:
URL:https://www.federicazanca.it/event/conferenza-a-oppeano-in-una-giornata-a-tema-disintossicazione-alimentare
END:VEVENT
BEGIN:VEVENT
DTSTART;VALUE=DATE:20210617
DTEND;VALUE=DATE:20210618
DTSTAMP:20260421T161808
CREATED:20210612T040858Z
LAST-MODIFIED:20210612T040858Z
UID:3011-1623888000-1623974399@www.federicazanca.it
SUMMARY:CONVEGNO ad Arzignano invitata da C.Guerra partner LR "Disintossicazione alimentare e percorso detox"
DESCRIPTION:
URL:https://www.federicazanca.it/event/convegno-ad-arzignano-invitata-da-c-guerra-partner-lr-disintossicazione-alimentare-e-percorso-detox
END:VEVENT
BEGIN:VEVENT
DTSTART;VALUE=DATE:20210610
DTEND;VALUE=DATE:20210611
DTSTAMP:20260421T161808
CREATED:20210609T191424Z
LAST-MODIFIED:20210609T191424Z
UID:3004-1623283200-1623369599@www.federicazanca.it
SUMMARY:FIBROMIALGIA zoom invitata da Anna Verrino - CALABRIA-
DESCRIPTION:
URL:https://www.federicazanca.it/event/fibromialgia-zoom-invitata-da-anna-verrino-calabria
END:VEVENT
BEGIN:VEVENT
DTSTART;VALUE=DATE:20210605
DTEND;VALUE=DATE:20210606
DTSTAMP:20260421T161808
CREATED:20210212T171714Z
LAST-MODIFIED:20210414T065628Z
UID:2692-1622851200-1622937599@www.federicazanca.it
SUMMARY:Meeting LR a Siracusa invitata da K.Inserra e presentazione del mio libro "Cristalli\, oli essenziali e fiori di Bach"
DESCRIPTION:
URL:https://www.federicazanca.it/event/meeting-lr-a-siracusa-invitata-da-k-inserra-e-presentazione-del-mio-libro-cristalli-oli-essenziali-e-fiori-di-bach
END:VEVENT
BEGIN:VEVENT
DTSTART;VALUE=DATE:20210604
DTEND;VALUE=DATE:20210605
DTSTAMP:20260421T161808
CREATED:20210531T190744Z
LAST-MODIFIED:20210531T190744Z
UID:2928-1622764800-1622851199@www.federicazanca.it
SUMMARY:Ripetizione dell'evento del 30 maggio 2021 ACIREALE
DESCRIPTION:
URL:https://www.federicazanca.it/event/ripetizione-dellevento-del-30-maggio-2021-acireale
END:VEVENT
BEGIN:VEVENT
DTSTART;VALUE=DATE:20210530
DTEND;VALUE=DATE:20210531
DTSTAMP:20260421T161808
CREATED:20210320T093019Z
LAST-MODIFIED:20210320T093019Z
UID:2733-1622332800-1622419199@www.federicazanca.it
SUMMARY:PRESENTAZIONE CORTOMETRAGGIO e libro "DA CUORE A CUORE" ad Acireale
DESCRIPTION:
URL:https://www.federicazanca.it/event/presentazione-cortometraggio-e-libro-da-cuore-a-cuore-ad-acireale
END:VEVENT
BEGIN:VEVENT
DTSTART;VALUE=DATE:20210523
DTEND;VALUE=DATE:20210524
DTSTAMP:20260421T161808
CREATED:20210426T071302Z
LAST-MODIFIED:20210426T071302Z
UID:2776-1621728000-1621814399@www.federicazanca.it
SUMMARY:PRESENTAZIONE al CAFFE' PEDROCCHI PD del mio libro "Cristalli\, olii essenziali e fiori di Bach"
DESCRIPTION:
URL:https://www.federicazanca.it/event/presentazione-al-caffe-pedrocchi-pd-del-mio-libro-cristalli-olii-essenziali-e-fiori-di-bach
END:VEVENT
BEGIN:VEVENT
DTSTART;VALUE=DATE:20210519
DTEND;VALUE=DATE:20210520
DTSTAMP:20260421T161808
CREATED:20210513T194412Z
LAST-MODIFIED:20210513T194412Z
UID:2819-1621382400-1621468799@www.federicazanca.it
SUMMARY:Zoom invitata da K. Inserra su ARCHETIPI  PRIMARI e PSICO-BIO-GENEALOGIA
DESCRIPTION:
URL:https://www.federicazanca.it/event/zoom-invitata-da-k-inserra-su-archetipi-primari-e-psico-bio-genealogia
END:VEVENT
BEGIN:VEVENT
DTSTART;VALUE=DATE:20210506
DTEND;VALUE=DATE:20210507
DTSTAMP:20260421T161808
CREATED:20210429T064341Z
LAST-MODIFIED:20210429T064341Z
UID:2790-1620259200-1620345599@www.federicazanca.it
SUMMARY:Zoom invitata da A.Palestro Team LR Siracusa  LA PAURA:DI CHE SI TRATTA? IMPARIAMO A GESTIRLA
DESCRIPTION:
URL:https://www.federicazanca.it/event/zoom-invitata-da-a-palestro-team-lr-siracusa-la-pauradi-che-si-tratta-impariamo-a-gestirla
END:VEVENT
BEGIN:VEVENT
DTSTART;VALUE=DATE:20210505
DTEND;VALUE=DATE:20210506
DTSTAMP:20260421T161808
CREATED:20210414T065802Z
LAST-MODIFIED:20210426T065821Z
UID:2771-1620172800-1620259199@www.federicazanca.it
SUMMARY:ZOOM con K.Inserra sul tema LA CORAZZA CARATTERIALE e I BLOCCHI EMOZIONALI
DESCRIPTION:
URL:https://www.federicazanca.it/event/zoom-con-k-inserra-sul-tema-la-corazza-caratteriale-e-i-blocchi-emozionali
END:VEVENT
BEGIN:VEVENT
DTSTART;VALUE=DATE:20210502
DTEND;VALUE=DATE:20210503
DTSTAMP:20260421T161808
CREATED:20210320T093203Z
LAST-MODIFIED:20210426T065741Z
UID:2735-1619913600-1619999999@www.federicazanca.it
SUMMARY:RINVIATO a data da destinarsi MEETING LR a Lampedusa\, presentazione dei miei libri e del cortometraggio invitata da A.Palestro
DESCRIPTION:
URL:https://www.federicazanca.it/event/meeting-lr-a-lampedusa-e-presentazione-dei-miei-libri-e-del-cortometraggio-invitata-da-a-palestro
END:VEVENT
BEGIN:VEVENT
DTSTART;VALUE=DATE:20210412
DTEND;VALUE=DATE:20210413
DTSTAMP:20260421T161808
CREATED:20210309T173739Z
LAST-MODIFIED:20210309T173739Z
UID:2721-1618185600-1618271999@www.federicazanca.it
SUMMARY:Zoom di formazione per Accademia di Patty: percorso detox alimentare e mentale per scrivere meglio!
DESCRIPTION:
URL:https://www.federicazanca.it/event/zoom-di-formazione-per-accademia-di-patty-percorso-detox-alimentare-e-mentale-per-scrivere-meglio
END:VEVENT
BEGIN:VEVENT
DTSTART;VALUE=DATE:20210407
DTEND;VALUE=DATE:20210408
DTSTAMP:20260421T161808
CREATED:20210328T063407Z
LAST-MODIFIED:20210328T063407Z
UID:2742-1617753600-1617839999@www.federicazanca.it
SUMMARY:APPARATO BUCCALE e DENTI  SIMBOLOGIA PSICOSOMATICA Zoom con K.Inserra
DESCRIPTION:
URL:https://www.federicazanca.it/event/apparato-buccale-e-denti-simbologia-psicosomatica-zoom-con-k-inserra
END:VEVENT
BEGIN:VEVENT
DTSTART;VALUE=DATE:20210327
DTEND;VALUE=DATE:20210328
DTSTAMP:20260421T161808
CREATED:20210225T053030Z
LAST-MODIFIED:20210301T192557Z
UID:2703-1616803200-1616889599@www.federicazanca.it
SUMMARY:Zoom con  l'Argentina per presentazione libro mio "Cristalli\, olii essenziali e fiori di Bach"
DESCRIPTION:
URL:https://www.federicazanca.it/event/zoom-con-largentina-per-presentazione-libro-mio-cristalli-olii-essenziali-e-fiori-di-bach
END:VEVENT
BEGIN:VEVENT
DTSTART;VALUE=DATE:20210324
DTEND;VALUE=DATE:20210325
DTSTAMP:20260421T161808
CREATED:20210309T061128Z
LAST-MODIFIED:20210309T061128Z
UID:2719-1616544000-1616630399@www.federicazanca.it
SUMMARY:Zoom con K.Inserra PATOLOGIE CUTANEE in chiave PSICOSOMATICA
DESCRIPTION:
URL:https://www.federicazanca.it/event/zoom-con-k-inserra-patologie-cutanee-in-chiave-psicosomatica
END:VEVENT
BEGIN:VEVENT
DTSTART;VALUE=DATE:20210313
DTEND;VALUE=DATE:20210314
DTSTAMP:20260421T161808
CREATED:20210210T052053Z
LAST-MODIFIED:20210301T150142Z
UID:2690-1615593600-1615679999@www.federicazanca.it
SUMMARY:PRESENTAZIONE del mio libro CRISTALLI\, OLI ESSENZIALI e FIORI di BACH  a Oppeano                                                                                                                                                           VR  Rimandata ad aprile
DESCRIPTION:
URL:https://www.federicazanca.it/event/presentazione-del-mio-libro-cristalli-oli-essenziali-e-fiori-di-bach-a-oppeano-vr
END:VEVENT
BEGIN:VEVENT
DTSTART;VALUE=DATE:20210301
DTEND;VALUE=DATE:20210302
DTSTAMP:20260421T161808
CREATED:20210225T053155Z
LAST-MODIFIED:20210225T053155Z
UID:2705-1614556800-1614643199@www.federicazanca.it
SUMMARY:Zoom con K.Inserra Patologie dell'udito in chiave psicosomatica
DESCRIPTION:
URL:https://www.federicazanca.it/event/zoom-con-k-inserra-patologie-delludito-in-chiave-psicosomatica
END:VEVENT
BEGIN:VEVENT
DTSTART;VALUE=DATE:20210227
DTEND;VALUE=DATE:20210228
DTSTAMP:20260421T161808
CREATED:20210225T053359Z
LAST-MODIFIED:20210225T053359Z
UID:2707-1614384000-1614470399@www.federicazanca.it
SUMMARY:Collaborazione trattamenti centro olistico Mantova
DESCRIPTION:
URL:https://www.federicazanca.it/event/collaborazione-trattamenti-centro-olistico-mantova
END:VEVENT
BEGIN:VEVENT
DTSTART;VALUE=DATE:20210217
DTEND;VALUE=DATE:20210218
DTSTAMP:20260421T161808
CREATED:20210209T055427Z
LAST-MODIFIED:20210209T055427Z
UID:2687-1613520000-1613606399@www.federicazanca.it
SUMMARY:Zoom con Katia Inserra Patologie dell'occhio e loro risvolto psicosomatico
DESCRIPTION:
URL:https://www.federicazanca.it/event/zoom-con-katia-inserra-patologie-dellocchio-e-loro-risvolto-psicosomatico
END:VEVENT
BEGIN:VEVENT
DTSTART;VALUE=DATE:20210213
DTEND;VALUE=DATE:20210214
DTSTAMP:20260421T161808
CREATED:20210128T062404Z
LAST-MODIFIED:20210128T062404Z
UID:2672-1613174400-1613260799@www.federicazanca.it
SUMMARY:Collaborazione centro olistico di MN
DESCRIPTION:
URL:https://www.federicazanca.it/event/collaborazione-centro-olistico-di-mn
END:VEVENT
BEGIN:VEVENT
DTSTART;VALUE=DATE:20210213
DTEND;VALUE=DATE:20210214
DTSTAMP:20260421T161808
CREATED:20201023T194225Z
LAST-MODIFIED:20210119T170637Z
UID:2540-1613174400-1613260799@www.federicazanca.it
SUMMARY:Presentazione " DA CUORE A CUORE" a Cuornevale Tango a Verona Rimandato per COVID
DESCRIPTION:
URL:https://www.federicazanca.it/event/presentazione-da-cuore-a-cuore-a-cuornevale-tango-a-verona
END:VEVENT
BEGIN:VEVENT
DTSTART;VALUE=DATE:20210208
DTEND;VALUE=DATE:20210209
DTSTAMP:20260421T161808
CREATED:20210128T062112Z
LAST-MODIFIED:20210128T062112Z
UID:2668-1612742400-1612828799@www.federicazanca.it
SUMMARY:Zoom di formazione con il team di C.Guerra  "L'efficacia dell'integrazione cellulare abbinata ad uno stile di vita sano"
DESCRIPTION:
URL:https://www.federicazanca.it/event/zoom-di-formazione-con-il-team-di-c-guerra-lefficacia-dellintegrazione-cellulare-abbinata-ad-uno-stile-di-vita-sano
END:VEVENT
BEGIN:VEVENT
DTSTART;VALUE=DATE:20210206
DTEND;VALUE=DATE:20210207
DTSTAMP:20260421T161808
CREATED:20210119T170515Z
LAST-MODIFIED:20210119T170515Z
UID:2635-1612569600-1612655999@www.federicazanca.it
SUMMARY:Presentazione a ROMA del mio libro su Cristalloterapia\, oli essenziali e Fiori di Bach
DESCRIPTION:
URL:https://www.federicazanca.it/event/presentazione-a-roma-del-mio-libro-su-cristalloterapia-oli-essenziali-e-fiori-di-bach
END:VEVENT
BEGIN:VEVENT
DTSTART;VALUE=DATE:20210129
DTEND;VALUE=DATE:20210130
DTSTAMP:20260421T161808
CREATED:20210113T132138Z
LAST-MODIFIED:20210119T170740Z
UID:2632-1611878400-1611964799@www.federicazanca.it
SUMMARY:COME ALIMENTARSI CORRETTAMENTE? Diretta streaming dal Comune di Oppeano -Auditorium-
DESCRIPTION:
URL:https://www.federicazanca.it/event/come-alimentarsi-correttamente-diretta-streaming-dal-comune-di-oppeano-auditorium
END:VEVENT
BEGIN:VEVENT
DTSTART;VALUE=DATE:20210123
DTEND;VALUE=DATE:20210124
DTSTAMP:20260421T161808
CREATED:20210111T083425Z
LAST-MODIFIED:20210113T131835Z
UID:2629-1611360000-1611446399@www.federicazanca.it
SUMMARY:Presentazione del mio libro " Cristalli\, oli essenziali e fiori di Bach" centro olistico a MN e inizio della mia collaborazione
DESCRIPTION:
URL:https://www.federicazanca.it/event/presentazione-del-mio-libro-cristalli-oli-essenziali-e-fiori-di-bach-centro-olistico-a-mantova
END:VEVENT
BEGIN:VEVENT
DTSTART;VALUE=DATE:20210120
DTEND;VALUE=DATE:20210121
DTSTAMP:20260421T161808
CREATED:20210105T231757Z
LAST-MODIFIED:20210105T232007Z
UID:2625-1611100800-1611187199@www.federicazanca.it
SUMMARY:Zoom con Katia Inserra  Disintossicazione alimentare e supporto di validi integratori naturali!
DESCRIPTION:
URL:https://www.federicazanca.it/event/zoom-con-katia-inserra-disintossicazione-alimentare
END:VEVENT
END:VCALENDAR